BEGIN:VCALENDAR
VERSION:2.0
PRODID:-//ChamberMaster//Event Calendar 2.0//EN
METHOD:PUBLISH
X-PUBLISHED-TTL:P3D
REFRESH-INTERVAL:P3D
CALSCALE:GREGORIAN
BEGIN:VEVENT
DTSTART:20181108T133000Z
DTEND:20181108T200000Z
X-MICROSOFT-CDO-ALLDAYEVENT:FALSE
SUMMARY:10th Annual Caregiver Forum
DESCRIPTION:The 10th Annual Circle of Care is sure to be another wonderful event dedicated to helping the caregivers of Manatee County. As always\, this event is free. Pre-Registration is required. Detailed agenda below.\nDate: November 8th\, 2018\, 8:30am to 3:00pm\n\nPlace: Water's Edge of Bradenton\n\n3329 19th street West\n\nBradenton\, FL 34205\n\nMap & Directions below.\n\n \nWho Should Attend?\nAre you responsible for the care of a family member\, neighbor or friend? This program is appropriate for caregivers of all types. Discussions will address issues of early decisions and the planning involved for people who care for those who cannot care for themselves. Learn of the resources available to you. Come and hear individuals from the community who are truly meeting the challenges and reaping the rewards of caregiving.\n\n \n\nIf you need care for your loved one while you attend this event\, please contact Tami Erickson at 941-757-2335.
X-ALT-DESC;FMTTYPE=text/html:<p>The 10th Annual Circle of Care is sure to be another wonderful event dedicated to helping the caregivers of Manatee County. As always\, this event is free. <a href="http://www.manateecountycaregiverforum.org/preregister.htm">Pre-Registration</a> is required. Detailed <a href="http://www.manateecountycaregiverforum.org/event.htm#agenda">agenda</a> below.</p>\n<strong>Date:</strong> November 8th\, 2018\, 8:30am to 3:00pm<br />\n<strong>Place:</strong> <a href="http://www.nationalchurchresidences.org/communities/fl/bradenton/waters-edge-of-bradenton" target="_blank">Water&#39\;s Edge of Bradenton</a><br />\n3329 19th street West<br />\nBradenton\, FL 34205<br />\n<a href="http://www.manateecountycaregiverforum.org/event.htm#map">Map &amp\; Directions</a> below.<br />\n&nbsp\;\n<p>Who Should Attend?</p>\nAre you responsible for the care of a family member\, neighbor or friend? This program is appropriate for caregivers of all types. Discussions will address issues of early decisions and the planning involved for people who care for those who cannot care for themselves. Learn of the <a href="http://www.manateecountycaregiverforum.org/resources.htm">resources</a> available to you. Come and hear individuals from the community who are truly meeting the challenges and reaping the rewards of caregiving.\n\n<p>&nbsp\;</p>\n\n<p>If you need care for your loved one while you attend this event\, please contact Tami Erickson at 941-757-2335.</p>\n
LOCATION:Place: Water's Edge of Bradenton 3329 19th street West Bradenton\, FL 34205
UID:e.2475.24187
SEQUENCE:3
DTSTAMP:20260423T164956Z
URL:https://business.manateechamber.com/events/details/10th-annual-caregiver-forum-24187
END:VEVENT

END:VCALENDAR
