BEGIN:VCALENDAR
VERSION:2.0
PRODID:-//ChamberMaster//Event Calendar 2.0//EN
METHOD:PUBLISH
X-PUBLISHED-TTL:P3D
REFRESH-INTERVAL:P3D
CALSCALE:GREGORIAN
BEGIN:VEVENT
DTSTART:20260514T100000Z
DTEND:20260514T100000Z
X-MICROSOFT-CDO-ALLDAYEVENT:FALSE
SUMMARY:19th Annual Pints for Play Blood Drive Hosted by SunCoast Blood Centers in partnership with WSRZ
DESCRIPTION:18th Annual Pints for Play Blood Drive\n\nHosted by SunCoast Blood Centers in partnership with WSRZ\n\nJoin SunCoast Blood Centers for the 19th Annual Pints for Play Blood Drive - a 12-hour radiothon dedicated to saving lives right here in our community.\n\nDonate blood on May 14 from 6 AM to 6 PM at one of six convenient donor centers\, from Parrish to Port Charlotte.\n\nAll donors will receive:\n\n\n	A $30 instant e-gift card\n	A Pints for Play T-shirt (while supplies last)\n	Your choice of:\n	\n		A song request on WSRZ\n		A plug for your business\n		A Pints for Play tumbler\n	\n	\n\n\nPlus\, all donors will be entered to win a share of $1\,500 in gas gift cards:\n\n\n\nWalk-in donors & financial donors receive 1 entry\n\nWhole blood donors (with appointment) receive 3 entries\n\nPower Red & platelet donors (with appointment) receive 10 entries\n\nCan't make it on May 14?\n\nDonate May 11 13\, and you'll still receive 1 entry per donation for a chance to win free gas.\n\n\n	Bayshore Donor Center\n\n	Schedule: Forcyte - Donor Portal\n	Bird Bay Donor Center\n\n	Schedule: Forcyte - Donor Portal\n	Lakewood Ranch (LWR) Donor Center\n\n	Schedule: Forcyte - Donor Portal    \n	Mound Donor Center\n\n	Schedule: Forcyte - Donor Portal    \n	Port Charlotte (PC) Donor Center\n\n	Schedule:Forcyte - Donor Portal    \n	Parrish Donor Center\n\n	Schedule:Forcyte - Donor Portal
X-ALT-DESC;FMTTYPE=text/html:<p><span style="font-size:14px"><strong>18th Annual Pints for Play Blood Drive</strong><br />\n<strong>Hosted by SunCoast Blood Centers in partnership with WSRZ</strong></span></p>\n\n<p><span style="font-size:12px">Join SunCoast Blood Centers for the 19th Annual <em>Pints for Play Blood Drive -&nbsp\;</em>a 12-hour radiothon dedicated to saving lives right here in our community.</span></p>\n\n<p><span style="font-size:12px">Donate blood on <strong>May 14 from 6 AM to 6 PM</strong> at one of six convenient donor centers\, from Parrish to Port Charlotte.</span></p>\n\n<p><span style="font-size:12px"><strong>All donors will receive:</strong></span></p>\n\n<ul>\n	<li><span style="font-size:12px">A <strong>$30 instant e-gift card</strong></span></li>\n	<li><span style="font-size:12px">A <strong>Pints for Play T-shirt</strong> (while supplies last)</span></li>\n	<li><span style="font-size:12px">Your choice of:</span>\n	<ul>\n		<li><span style="font-size:12px">A <strong>song request</strong> on WSRZ</span></li>\n		<li><span style="font-size:12px">A <strong>plug for your business</strong></span></li>\n		<li><span style="font-size:12px">A <strong>Pints for Play tumbler</strong></span></li>\n	</ul>\n	</li>\n</ul>\n\n<p><span style="font-size:12px">Plus\, all donors will be entered to win a share of <strong>$1\,500 in gas gift cards:</strong></span><br />\n<br />\n<strong>Walk-in donors &amp\; financial donors</strong> receive <strong>1 entry</strong><br />\n<strong>Whole blood donors (with appointment)</strong> receive <strong>3 entries</strong><br />\n<strong>Power Red &amp\; platelet donors (with appointment)</strong> receive <strong>10 entries</strong></p>\n\n<p><span style="font-size:12px"><strong>Can&rsquo\;t make it on May 14?</strong><br />\nDonate <strong>May 11&ndash\;13\,</strong> and you&rsquo\;ll still receive <strong>1 entry per donation</strong> for a chance to win free gas.</span></p>\n\n<ul>\n	<li><span style="font-size:12px">Bayshore Donor Center<br />\n	Schedule: <a href="https://scbc-donor.prod.forcytesp.com/schedule-donation?date=2026-05-14&amp\;operation_id=97755&amp\;operation_type=sessions">Forcyte - Donor Portal</a></span></li>\n	<li><span style="font-size:12px">Bird Bay Donor Center<br />\n	Schedule: <span style="font-family:aptos\,sans-serif"><a href="https://nam11.safelinks.protection.outlook.com/?url=https%3A%2F%2Fscbc-donor.prod.forcytesp.com%2Fschedule-donation%3Fdate%3D2026-05-14%26operation_id%3D97991%26operation_type%3Dsessions&amp\;data=05%7C02%7Ctmalkovich%40scbb.org%7Ca460e470c1cd4f60569508de9ef8240b%7C6ba0dee394a24953a12d27a22065bd63%7C0%7C0%7C639122985753301935%7CUnknown%7CTWFpbGZsb3d8eyJFbXB0eU1hcGkiOnRydWUsIlYiOiIwLjAuMDAwMCIsIlAiOiJXaW4zMiIsIkFOIjoiTWFpbCIsIldUIjoyfQ%3D%3D%7C0%7C%7C%7C&amp\;sdata=qO3lPzzxrJCMf7nDrmWpE2rm8sLdyibwU2EUkxvChdQ%3D&amp\;reserved=0">Forcyte - Donor Portal</a></span></span></li>\n	<li><span style="font-size:12px">Lakewood Ranch (LWR) Donor Center<br />\n	Schedule: <span style="font-family:aptos\,sans-serif"><a href="https://nam11.safelinks.protection.outlook.com/?url=https%3A%2F%2Fscbc-donor.prod.forcytesp.com%2Fschedule-donation%3Fdate%3D2026-05-14%26operation_id%3D98585%26operation_type%3Dsessions&amp\;data=05%7C02%7Ctmalkovich%40scbb.org%7Ca460e470c1cd4f60569508de9ef8240b%7C6ba0dee394a24953a12d27a22065bd63%7C0%7C0%7C639122985753327115%7CUnknown%7CTWFpbGZsb3d8eyJFbXB0eU1hcGkiOnRydWUsIlYiOiIwLjAuMDAwMCIsIlAiOiJXaW4zMiIsIkFOIjoiTWFpbCIsIldUIjoyfQ%3D%3D%7C0%7C%7C%7C&amp\;sdata=WUOZwUNf7CtBJB1IyJQaG6CAGyuHhspoTA7E0%2FvFlMg%3D&amp\;reserved=0">Forcyte - Donor Portal</a>&nbsp\; &nbsp\;&nbsp\;</span></span></li>\n	<li><span style="font-size:12px">Mound Donor Center<br />\n	Schedule: <span style="font-family:aptos\,sans-serif"><a href="https://nam11.safelinks.protection.outlook.com/?url=https%3A%2F%2Fscbc-donor.prod.forcytesp.com%2Fschedule-donation%3Fdate%3D2026-05-14%26operation_id%3D99061%26operation_type%3Dsessions&amp\;data=05%7C02%7Ctmalkovich%40scbb.org%7Ca460e470c1cd4f60569508de9ef8240b%7C6ba0dee394a24953a12d27a22065bd63%7C0%7C0%7C639122985753349430%7CUnknown%7CTWFpbGZsb3d8eyJFbXB0eU1hcGkiOnRydWUsIlYiOiIwLjAuMDAwMCIsIlAiOiJXaW4zMiIsIkFOIjoiTWFpbCIsIldUIjoyfQ%3D%3D%7C0%7C%7C%7C&amp\;sdata=ivZNqEK3RRF%2BvGyUX%2Frr8OnL3Q5ilSAHSop0fomK2Nk%3D&amp\;reserved=0">Forcyte - Donor Portal</a>&nbsp\; &nbsp\;&nbsp\;</span></span></li>\n	<li><span style="font-size:12px">Port Charlotte (PC) Donor Center<br />\n	Schedule:<span style="font-family:aptos\,sans-serif"><a href="https://nam11.safelinks.protection.outlook.com/?url=https%3A%2F%2Fscbc-donor.prod.forcytesp.com%2Fschedule-donation%3Fdate%3D2026-05-14%26operation_id%3D99511%26operation_type%3Dsessions&amp\;data=05%7C02%7Ctmalkovich%40scbb.org%7Ca460e470c1cd4f60569508de9ef8240b%7C6ba0dee394a24953a12d27a22065bd63%7C0%7C0%7C639122985753371673%7CUnknown%7CTWFpbGZsb3d8eyJFbXB0eU1hcGkiOnRydWUsIlYiOiIwLjAuMDAwMCIsIlAiOiJXaW4zMiIsIkFOIjoiTWFpbCIsIldUIjoyfQ%3D%3D%7C0%7C%7C%7C&amp\;sdata=%2B2KG9PldXvXt%2Be4Yk%2F9BDz17cTV2L3rkIe%2FiyNuln6w%3D&amp\;reserved=0">Forcyte - Donor Portal</a>&nbsp\; &nbsp\;&nbsp\;</span></span></li>\n	<li><span style="font-size:12px">Parrish Donor Center<br />\n	Schedule:<span style="font-family:aptos\,sans-serif"><a href="https://nam11.safelinks.protection.outlook.com/?url=https%3A%2F%2Fscbc-donor.prod.forcytesp.com%2Fschedule-donation%3Fdate%3D2026-05-14%26operation_id%3D99653%26operation_type%3Dsessions&amp\;data=05%7C02%7Ctmalkovich%40scbb.org%7Ca460e470c1cd4f60569508de9ef8240b%7C6ba0dee394a24953a12d27a22065bd63%7C0%7C0%7C639122985753394117%7CUnknown%7CTWFpbGZsb3d8eyJFbXB0eU1hcGkiOnRydWUsIlYiOiIwLjAuMDAwMCIsIlAiOiJXaW4zMiIsIkFOIjoiTWFpbCIsIldUIjoyfQ%3D%3D%7C0%7C%7C%7C&amp\;sdata=rGVEjN6Tugb7lS6%2FGYA7L0knPUmH8cQjIeWAz6PEXkk%3D&amp\;reserved=0">Forcyte - Donor Portal</a>&nbsp\; &nbsp\;&nbsp\;</span></span></li>\n</ul>\n
LOCATION:Pints for Play at six convenient SunCoast Blood Centers locations: Lakewood Ranch Donor Center 3025 Lakewood Ranch Blvd\, Suite 111\, Bradenton\, FL 34211 Mound Donor Center 1760 Mound Street\, Sarasota\, FL 34236 Bird Bay Donor Center 539 US Hwy 41 Bypass\, Venice\, FL 34285 Bayshore Donor Center 6026 14th St. W.\, Bradenton\, FL 34207 Port Charlotte Donor Center 2150 Tamiami Trail\, Unit 17\, Port Charlotte\, FL 33948 Parrish Donor Center 11255 US Highway 301 N\, Suite 106\, Parrish\, FL 34219
UID:e.2475.53548
SEQUENCE:3
DTSTAMP:20260422T154554Z
URL:https://business.manateechamber.com/events/details/19th-annual-pints-for-play-blood-drive-hosted-by-suncoast-blood-centers-in-partnership-with-wsrz-53548
END:VEVENT

END:VCALENDAR
