BEGIN:VCALENDAR
VERSION:2.0
PRODID:-//ChamberMaster//Event Calendar 2.0//EN
METHOD:PUBLISH
X-PUBLISHED-TTL:P3D
REFRESH-INTERVAL:P3D
CALSCALE:GREGORIAN
BEGIN:VEVENT
DTSTART;VALUE=DATE:20120320
DTEND;VALUE=DATE:20120321
TRANSP:TRANSPARENT
X-MICROSOFT-CDO-ALLDAYEVENT:TRUE
SUMMARY:2012 Business After Hours - March 20\, 2012
DESCRIPTION:
X-ALT-DESC;FMTTYPE=text/html:
LOCATION:216 Manatee Ave. E.\, Bradenton\, FL 34208
UID:e.2475.167
SEQUENCE:3
DTSTAMP:20260420T085122Z
URL:https://business.manateechamber.com/events/details/2012-business-after-hours-march-20-2012-167
END:VEVENT

END:VCALENDAR
