BEGIN:VCALENDAR
VERSION:2.0
PRODID:-//ChamberMaster//Event Calendar 2.0//EN
METHOD:PUBLISH
X-PUBLISHED-TTL:P3D
REFRESH-INTERVAL:P3D
CALSCALE:GREGORIAN
BEGIN:VEVENT
DTSTART:20201007T154500Z
DTEND:20201007T170000Z
X-MICROSOFT-CDO-ALLDAYEVENT:FALSE
SUMMARY:2020 Power Connection Lunch - October 7 - Courtyard by Marriott Sarasota University Park
DESCRIPTION:This is an outdoor event--please dress accordingly! \n\n\n\nThis casual networking event allows members to connect one-on-one while enjoying lunch at one of our member restaurants. Each attendee is invited to give a one minute commercial to promote their business and services. \n\n\n\nThe format of this event will require masks upon entry\, sitting immediately at your table\, and social distancing as much as possible.  \n\n\n\nPower Connection Lunch is a Chamber Members-Only networking event. \n\n\n\nHosting this as an in-person event is subject to change based on CDC and Florida Department of Health guidelines. We appreciate your patience and understanding as we proceed carefully with the reintroduction of these events.\n\n\n\nThe cost to attend is $20 for Chamber Members.\n\n\n\nDue to the popularity of this event\, we must limit attendees to one per organization.  \n\n\n\nRSVP is required and must be received by noon on Monday\, October 5\, 2020. Cancellations after this date will be invoiced as guarantees have already been made on your behalf.\nPrefer to Register by phone? Call Cara at 941-748-4842 ext. 122 and please have a credit card ready for payment.\n\nNo walk-ins allowed.  Please make your reservation today to guarantee your seat.
X-ALT-DESC;FMTTYPE=text/html:<br />\n<strong><span style="font-size:16px\;"><span style="font-family:arial\;">This is an outdoor event--please dress accordingly!&nbsp\;</span></span></strong><br />\n<br />\n<span style="font-size:16px\;"><span style="font-family:arial\;">This casual networking event allows members to connect one-on-one while enjoying lunch at one of our member restaurants. Each attendee is invited to give a one minute commercial to promote their business and services.&nbsp\;<br />\n<br />\n<em><span style="color:#0000FF\;">The format of this event will require masks upon entry\, sitting immediately at your table\, and social distancing as much as possible</span></em>.&nbsp\;&nbsp\;<br />\n<br />\nPower Connection Lunch is a Chamber Members-Only networking event.&nbsp\;<br />\n<br />\n<strong><span style="color:#000000\;"><em>Hosting this as an in-person event is subject to change based on CDC and Florida Department of Health guidelines. We appreciate your patience and understanding as we proceed carefully with the reintroduction of these events.</em></span></strong><br />\n<br />\nThe cost to attend is $20 for Chamber Members.<br />\n<br />\n<span style="color:#0000FF\;"><em><strong>Due to the popularity of this event\, we must limit attendees to one per organization.</strong> &nbsp\;</em></span><br />\n<br />\n<strong>RSVP is required</strong>&nbsp\;and must be received by noon on Monday\, October 5\, 2020.&nbsp\;Cancellations&nbsp\;after this date will be invoiced as guarantees have already been made on your behalf.</span></span>\n<p style="line-height: 20.8px\;"><span style="font-size:16px\;"><span style="font-family:arial\;">Prefer to Register by phone? Call Cara at 941-748-4842 ext. 122&nbsp\;and please have a credit card ready for payment.</span></span></p>\n\n<p style="line-height: 20.8px\;"><span style="font-size:16px\;"><span style="font-family:arial\;"><strong><em>No walk-ins allowed.&nbsp\; Please make your reservation today to guarantee your seat.</em></strong></span></span></p>\n
LOCATION:Courtyard by Marriott Sarasota University Park 8305 Tourist Center Dr. University Park\, FL 34201
UID:e.2475.29598
SEQUENCE:3
DTSTAMP:20260421T054508Z
URL:https://business.manateechamber.com/events/details/2020-power-connection-lunch-october-7-courtyard-by-marriott-sarasota-university-park-29598
END:VEVENT

END:VCALENDAR
