BEGIN:VCALENDAR
VERSION:2.0
PRODID:-//ChamberMaster//Event Calendar 2.0//EN
METHOD:PUBLISH
X-PUBLISHED-TTL:P3D
REFRESH-INTERVAL:P3D
CALSCALE:GREGORIAN
BEGIN:VEVENT
DTSTART:20211020T153000Z
DTEND:20211020T170000Z
X-MICROSOFT-CDO-ALLDAYEVENT:FALSE
SUMMARY:2021 Power Connection Lunch - October 20 - The Canopy Bistro & Bar
DESCRIPTION:There is Power in making Connections! This casual\, members-only networking event allows you to connect and grow your Chamber network while enjoying lunch at The Canopy Bistro & Bar. Each attendee is invited to give a one-minute commercial to promote their organization\, products\, and services.\n\n \n\n	Your RSVP is required and must be received by noon on Monday\, October 18. We cannot accommodate walk-ins. \n	Cancellations after 12:00PM on October 18 will be invoiced as guarantees will have been made on your behalf.\n	Limited to one attendee per organization due to the popularity of this event.\n	COVID Protocols (subject to change):\n\n	Please do not attend any in-person event if you do not feel well\, have had a recent exposure to COVID\, or have anyone one in your household quarantining or isolating. The CDC currently recommends the wearing of masks indoors when not physically distanced\, regardless of vaccination status. Currently in both Chamber offices and when attending indoor events offsite\, our staff are wearing masks. Visitors to our offices and attendees at our events are reminded of CDC recommendations and encouraged to follow guidelines. Face masks are available at Chamber events and we also encourage you to use our complimentary hand sanitizer to promote healthy hand hygiene.\n\nThe cost to attend is $20. Prefer to register by phone? Call Cara at 941-748-4842 ext. 122 and please have a credit card ready for payment.
X-ALT-DESC;FMTTYPE=text/html:<span style="font-size:12px\;"><span style="font-size:14px\;"><span style="color:#000000\;"><strong>There is Power in making Connections!</strong> This casual\, members-only networking event allows you to connect and grow your Chamber network while enjoying lunch at The Canopy Bistro &amp\; Bar. Each attendee is invited to give a one-minute commercial to promote their organization\, products\, and services.</span></span><br />\n<span style="font-family:arial\;"><span style="color:#000000\;">&nbsp\;</span></span></span>\n<ul>\n	<li><span style="font-size:12px\;"><span style="font-family:arial\;"><span style="color:#000000\;"><span style="font-size:14px\;"><strong>Your RSVP is required</strong> and must be received by noon on Monday\, October 18. We cannot accommodate walk-ins.&nbsp\;</span></span></span></span></li>\n	<li><span style="font-size:12px\;"><span style="font-family:arial\;"><span style="color:#000000\;"><span style="font-size:14px\;"><strong>Cancellations </strong>after 12:00PM on October 18 will be invoiced as guarantees will have been made on your behalf.</span></span></span></span></li>\n	<li><span style="font-size:12px\;"><span style="font-family:arial\;"><span style="color:#000000\;"><span style="font-size:14px\;"><strong>Limited to one attendee</strong> per organization due to the popularity of this event.</span></span></span></span></li>\n	<li style="margin-bottom: 0in\;"><span style="font-size: 14px\;"><span style="font-family: arial\;"><span style="color: rgb(0\, 0\, 0)\;"><strong>COVID Protocols&nbsp\;</strong></span></span></span><strong style="font-family: arial\; font-size: 14px\;"><span style="color: rgb(4\, 7\, 12)\;">(subject to change):</span></strong><br style="font-family: arial\; font-size: 14px\;" />\n	<span style="font-family: arial\; font-size: 14px\; color: rgb(0\, 0\, 0)\;">Please do not attend any in-person event if you do not feel well\, have had a recent exposure to COVID\, or have anyone one in your household quarantining or isolating.&nbsp\;The CDC currently recommends the wearing of masks indoors when not physically distanced\, regardless of vaccination status. Currently in both Chamber offices and when attending indoor events offsite\, our staff are wearing masks. Visitors to our offices and attendees at our events are reminded of CDC recommendations and encouraged to follow guidelines. Face masks are available at Chamber events and we also encourage you to use our complimentary hand sanitizer to promote healthy hand hygiene.</span></li>\n</ul>\n<span style="font-size:12px\;"><span style="font-family:arial\;"><span style="color:#000000\;"><span style="font-size:14px\;">The cost to attend is $20. Prefer to register by phone? Call Cara at 941-748-4842 ext. 122 and please have a credit card ready for payment.</span></span></span></span>
LOCATION:The Canopy Bistro & Bar 3503 US Hwy. 301 Ellenton\, FL 34222
UID:e.2475.32598
SEQUENCE:3
DTSTAMP:20260421T001533Z
URL:https://business.manateechamber.com/events/details/2021-power-connection-lunch-october-20-the-canopy-bistro-bar-32598
END:VEVENT

END:VCALENDAR
