BEGIN:VCALENDAR
VERSION:2.0
PRODID:-//ChamberMaster//Event Calendar 2.0//EN
METHOD:PUBLISH
X-PUBLISHED-TTL:P3D
REFRESH-INTERVAL:P3D
CALSCALE:GREGORIAN
BEGIN:VEVENT
DTSTART:20220712T213000Z
DTEND:20220712T233000Z
X-MICROSOFT-CDO-ALLDAYEVENT:FALSE
SUMMARY:2022 - Meet the Candidates Event
DESCRIPTION:Chamber members are invited to a special meet and greet event with candidates who will be on the Primary Election ballot in August for state and county offices.\n\n\n\nThis free members-only event is designed to connect our members to candidates running to represent areas within our region. We aim to inspire dialogue on issues that matter most to our members. It will also be a great networking event!\n\n\n\nWe'll join friends from the Bradenton Area EDC\, Realtor Association of Sarasota and Manatee\, Manatee Sarasota Building Industry Association\, USF Institute for Public Policy & Leadership\, Sarasota Chamber\, Sarasota EDC\, and Lakewood Ranch Business Alliance to host the event at Gold Coast Eagle Distributing.
X-ALT-DESC;FMTTYPE=text/html:<span style="color:#080808\;"><span style="font-family:arial\,sans-serif\;"><span style="font-size:12.0pt\;">Chamber members are invited to a special meet and greet event with candidates who will be on the Primary Election ballot in August for state and county offices.</span></span></span><br />\n<br />\n<span style="color: rgb(8\, 8\, 8)\; font-family: arial\, sans-serif\; font-size: 16px\;">This free members-only event is designed to connect our members to candidates running to represent areas within our region. We aim to inspire dialogue on issues that matter most to our members. It will also be a great networking event!</span><br />\n<br />\n<span style="color:#080808\;"><span style="font-family:arial\,sans-serif\;"><span style="font-size:12.0pt\;">We&#39\;ll join friends from the Bradenton Area EDC\, </span></span></span><span style="color: rgb(8\, 8\, 8)\; font-family: arial\, sans-serif\; font-size: 16px\;">Realtor Association of Sarasota and Manatee\, Manatee Sarasota Building Industry Association\, USF Institute for Public Policy &amp\; Leadership\,&nbsp\;</span><span style="color:#080808\;"><span style="font-family:arial\,sans-serif\;"><span style="font-size:12.0pt\;">Sarasota Chamber\, Sarasota EDC\, and Lakewood Ranch Business Alliance to host the event at Gold Coast Eagle Distributing.</span></span></span>
LOCATION:Gold Coast Eagle Distributing 7051 Wireless Court Sarasota\, FL 34240
UID:e.2475.33868
SEQUENCE:3
DTSTAMP:20260419T213650Z
URL:https://business.manateechamber.com/events/details/2022-meet-the-candidates-event-33868
END:VEVENT

END:VCALENDAR
