BEGIN:VCALENDAR
VERSION:2.0
PRODID:-//ChamberMaster//Event Calendar 2.0//EN
METHOD:PUBLISH
X-PUBLISHED-TTL:P3D
REFRESH-INTERVAL:P3D
CALSCALE:GREGORIAN
BEGIN:VEVENT
DTSTART:20260304T163000Z
DTEND:20260304T180000Z
X-MICROSOFT-CDO-ALLDAYEVENT:FALSE
SUMMARY:2026 Power Connection Lunch - 3.4.26 Cracker Barrel - Cortez
DESCRIPTION:There is Power in making Connections! This casual\, members-only networking event allows you to connect and grow your Chamber network while enjoying lunch at Cracker Barrel - Cortez. Each attendee is invited to give a one-minute commercial to promote their organization\, products\, and services. \n\n	Your RSVP is required and must be received by 1:00 PM on Monday\, March 2. We cannot accommodate walk-ins.   \n	Cancellations after 1:00 PM on March 2 will be invoiced as guarantees will have been made on your behalf.\n	Limited to one attendee per organization due to the popularity of this event.\n	If you have any dietary allergies or restrictions\, please let us know by March 2 so that we may accommodate you.\n\nThe cost to attend is $30.
X-ALT-DESC;FMTTYPE=text/html:<span style="font-size:14px\;"><span style="font-family: arial\; color: rgb(0\, 0\, 0)\;"><strong>There is Power in making Connections</strong>! This casual\, members-only networking event allows you to connect and grow your Chamber network while enjoying lunch at <b>Cracker Barrel - Cortez</b></span></span><span style="font-size:14px\;"><span style="font-family: arial\;"><span style="color: rgb(0\, 0\, 0)\;">. Each attendee is invited to give a one-minute commercial to promote their organization\, products\, and services.&nbsp\;</span></span></span>\n<ul>\n	<li style="margin-bottom: 0in\;"><span style="font-size: 14px\;"><span style="font-family: arial\;"><span style="color: rgb(0\, 0\, 0)\;"><strong>Your RSVP is required</strong>&nbsp\;and must be received by 1:00 PM&nbsp\;on Monday\, March 2.&nbsp\;We cannot accommodate walk-ins. &nbsp\;&nbsp\;</span></span></span></li>\n	<li style="margin-bottom: 0in\;"><span style="font-size: 14px\;"><span style="font-family: arial\;"><span style="color: rgb(0\, 0\, 0)\;"><strong>Cancellations&nbsp\;</strong>after 1:00 PM on March 2</span></span></span><span style="color: rgb(0\, 0\, 0)\; font-family: arial\; font-size: 14px\;">&nbsp\;</span><span style="font-size: 14px\;"><span style="font-family: arial\;"><span style="color: rgb(0\, 0\, 0)\;">will be invoiced as guarantees will have been made on your behalf.</span></span></span></li>\n	<li style="margin-bottom: 0in\;"><span style="font-size: 14px\;"><span style="font-family: arial\;"><span style="color: rgb(0\, 0\, 0)\;"><strong>Limited to one attendee</strong>&nbsp\;per organization due to the popularity of this event.</span></span></span></li>\n	<li style="margin-bottom: 0in\;"><span style="font-size: 14px\;"><span style="font-family: arial\;"><span style="color: rgb(0\, 0\, 0)\;">If you have any dietary allergies or restrictions\, please let us know by March 2&nbsp\;so that we may accommodate&nbsp\;you.</span></span></span></li>\n</ul>\n<span style="color: rgb(0\, 0\, 0)\;"><span style="font-size: 14px\;"><span style="font-family: arial\, sans-serif\;"><span style="font-family: arial\;">The cost to attend is $30.</span></span></span></span>
LOCATION:Cracker Barrel - Cortez 2203 Cortez Rd. W. Bradenton\, FL 34207
UID:e.2475.53119
SEQUENCE:3
DTSTAMP:20260424T205341Z
URL:https://business.manateechamber.com/events/details/2026-power-connection-lunch-3-4-26-cracker-barrel-cortez-53119
END:VEVENT

END:VCALENDAR
