BEGIN:VCALENDAR
VERSION:2.0
PRODID:-//ChamberMaster//Event Calendar 2.0//EN
METHOD:PUBLISH
X-PUBLISHED-TTL:P3D
REFRESH-INTERVAL:P3D
CALSCALE:GREGORIAN
BEGIN:VEVENT
DTSTART:20260415T153000Z
DTEND:20260415T170000Z
X-MICROSOFT-CDO-ALLDAYEVENT:FALSE
SUMMARY:2026 Power Connection Lunch - 4.15.26 Guac Shop Mexican Grill
DESCRIPTION:There is Power in making Connections! This casual\, members-only networking event allows you to connect and grow your Chamber network while enjoying lunch at Guac Shop Mexican Grill. Each attendee is invited to give a one-minute commercial to promote their organization\, products\, and services. \n\n	Your RSVP is required and must be received by 1:00 PM on Monday\, April 13. We cannot accommodate walk-ins.   \n	Cancellations after 1:00 PM on April 13 will be invoiced as guarantees will have been made on your behalf.\n	Limited to one attendee per organization due to the popularity of this event.\n	If you have any dietary allergies or restrictions\, please let us know by April 13 so that we may accommodate you.\n\nThe cost to attend is $30.
X-ALT-DESC;FMTTYPE=text/html:<span style="font-size:14px\;"><span style="font-family: arial\; color: rgb(0\, 0\, 0)\;"><strong>There is Power in making Connections</strong>! This casual\, members-only networking event allows you to connect and grow your Chamber network while enjoying lunch at <b>Guac Shop Mexican Grill</b></span></span><span style="font-size:14px\;"><span style="font-family: arial\;"><span style="color: rgb(0\, 0\, 0)\;">. Each attendee is invited to give a one-minute commercial to promote their organization\, products\, and services.&nbsp\;</span></span></span>\n<ul>\n	<li style="margin-bottom: 0in\;"><span style="font-size: 14px\;"><span style="font-family: arial\;"><span style="color: rgb(0\, 0\, 0)\;"><strong>Your RSVP is required</strong>&nbsp\;and must be received by 1:00 PM&nbsp\;on Monday\, April 13.&nbsp\;We cannot accommodate walk-ins. &nbsp\;&nbsp\;</span></span></span></li>\n	<li style="margin-bottom: 0in\;"><span style="font-size: 14px\;"><span style="font-family: arial\;"><span style="color: rgb(0\, 0\, 0)\;"><strong>Cancellations&nbsp\;</strong>after 1:00 PM on April 13</span></span></span><span style="color: rgb(0\, 0\, 0)\; font-family: arial\; font-size: 14px\;">&nbsp\;</span><span style="font-size: 14px\;"><span style="font-family: arial\;"><span style="color: rgb(0\, 0\, 0)\;">will be invoiced as guarantees will have been made on your behalf.</span></span></span></li>\n	<li style="margin-bottom: 0in\;"><span style="font-size: 14px\;"><span style="font-family: arial\;"><span style="color: rgb(0\, 0\, 0)\;"><strong>Limited to one attendee</strong>&nbsp\;per organization due to the popularity of this event.</span></span></span></li>\n	<li style="margin-bottom: 0in\;"><span style="font-size: 14px\;"><span style="font-family: arial\;"><span style="color: rgb(0\, 0\, 0)\;">If you have any dietary allergies or restrictions\, please let us know by April 13 so that we may accommodate&nbsp\;you.</span></span></span></li>\n</ul>\n<span style="color: rgb(0\, 0\, 0)\;"><span style="font-size: 14px\;"><span style="font-family: arial\, sans-serif\;"><span style="font-family: arial\;">The cost to attend is $30.</span></span></span></span>
LOCATION:Guac Shop Mexican Grill 7307 52nd Pl. E. Bradenton\, FL 34203
UID:e.2475.53455
SEQUENCE:3
DTSTAMP:20260423T103744Z
URL:https://business.manateechamber.com/events/details/2026-power-connection-lunch-4-15-26-guac-shop-mexican-grill-53455
END:VEVENT

END:VCALENDAR
