BEGIN:VCALENDAR
VERSION:2.0
PRODID:-//ChamberMaster//Event Calendar 2.0//EN
METHOD:PUBLISH
X-PUBLISHED-TTL:P3D
REFRESH-INTERVAL:P3D
CALSCALE:GREGORIAN
BEGIN:VEVENT
DTSTART:20260520T153000Z
DTEND:20260520T170000Z
X-MICROSOFT-CDO-ALLDAYEVENT:FALSE
SUMMARY:2026 Power Connection Lunch - 5.20.26 Linger Lodge Restaurant
DESCRIPTION:There is Power in making Connections! This casual\, members-only networking event allows you to connect and grow your Chamber network while enjoying lunch at Linger Lodge Restaurant. Each attendee is invited to give a one-minute commercial to promote their organization\, products\, and services. \n\n	Your RSVP is required and must be received by 1:00 PM on Monday\, May 18. We cannot accommodate walk-ins. \n	Cancellations after 1:00 PM on May 18 will be invoiced as guarantees will have been made on your behalf.\n	Limited to one attendee per organization due to the popularity of this event.\n	If you have any dietary allergies or restrictions\, please let us know by May 18 so that we may accommodate you.\n\n\nLunch selections must be made at time of registration and include (no substitutions):\n\n\n	Alligator Chowder Bowl: Homemade chowder made with heavy cream\, heapin' with wild gator meat\, potatoes\, peppers\, onions\, celery\, and secret seasoning\n	Linger Lodge Gumbo Bowl: Classic original recipe! Loaded with andouille sausage\, shrimp\, chicken\, okra\, peppers\, onions\, tomatoes\, celery\, and savory secret spices\n	Grilled Chicken Club Wrap: Lightly seasoned\, grilled chicken breast wrapped in a spinach herb tortilla with bacon\, lettuce\, tomato\, onions\, shredded cheddar cheese and ranch dressing\, served with a pickle spear and homemade Old Bay seasoned potato chips\n	River Reuben: Lean corned beef\, swiss cheese\, sauerkraut\, thousand island dressing\, served with a pickle spear and homemade Old Bay seasoned potato chips\n	Braden River Burger: A half pound of specially ground beef blend of brisket and short rib\, lettuce\, tomato and red onion\, served with a pickle spear and homemade Old Bay seasoned potato chips\n	Garden Veggie Burger: Perfectly seasoned patty made with roasted veggies\, brown rice\, black beans\, and kale with lettuce\, tomato and red onion\, served with a pickle spear and homemade Old Bay seasoned potato chips\n	Chicken Tender Basket: Served with french fries and a side of coleslaw \n\nThe cost to attend is $30.
X-ALT-DESC;FMTTYPE=text/html:<span style="font-size: 14px\;"><span style="font-family: arial\; color: rgb(0\, 0\, 0)\;"><strong>There is Power in making Connections</strong>! This casual\, members-only networking event allows you to connect and grow your Chamber network while enjoying lunch at <b>Linger Lodge Restaurant</b></span></span><span style="font-size: 14px\;"><span style="font-family: arial\;"><span style="color: rgb(0\, 0\, 0)\;">. Each attendee is invited to give a one-minute commercial to promote their organization\, products\, and services.&nbsp\;</span></span></span>\n<ul>\n	<li style="margin-bottom: 0in\;"><span style="font-size: 14px\;"><span style="font-family: arial\;"><span style="color: rgb(0\, 0\, 0)\;"><strong>Your RSVP is required</strong>&nbsp\;and must be received by 1:00 PM&nbsp\;on Monday\, May 18.&nbsp\;We cannot accommodate walk-ins.&nbsp\;</span></span></span></li>\n	<li style="margin-bottom: 0in\;"><span style="font-size: 14px\;"><span style="font-family: arial\;"><span style="color: rgb(0\, 0\, 0)\;"><strong>Cancellations&nbsp\;</strong>after 1:00 PM on May 18</span></span></span><span style="color: rgb(0\, 0\, 0)\; font-family: arial\; font-size: 14px\;">&nbsp\;</span><span style="font-size: 14px\;"><span style="font-family: arial\;"><span style="color: rgb(0\, 0\, 0)\;">will be invoiced as guarantees will have been made on your behalf.</span></span></span></li>\n	<li style="margin-bottom: 0in\;"><span style="font-size: 14px\;"><span style="font-family: arial\;"><span style="color: rgb(0\, 0\, 0)\;"><strong>Limited to one attendee</strong>&nbsp\;per organization due to the popularity of this event.</span></span></span></li>\n	<li style="margin-bottom: 0in\;"><span style="font-size: 14px\;"><span style="font-family: arial\;"><span style="color: rgb(0\, 0\, 0)\;">If you have any dietary allergies or restrictions\, please let us know by May 18 so that we may accommodate&nbsp\;you.</span></span></span></li>\n</ul>\n\n<div style="margin-bottom: 0in\;"><strong><span style="font-size: 14px\;"><span style="font-family: arial\;"><span style="color: rgb(0\, 0\, 0)\;">Lunch selections must be made at time of registration and include (no substitutions):</span></span></span></strong></div>\n\n<ul>\n	<li style="margin-bottom: 0in\;"><span style="font-size: 14px\;"><span style="font-family: arial\;"><span style="color: rgb(0\, 0\, 0)\;">Alligator Chowder Bowl: Homemade chowder made with heavy cream\, heapin&#39\; with wild gator meat\, potatoes\, peppers\, onions\, celery\, and secret seasoning</span></span></span></li>\n	<li style="margin-bottom: 0in\;"><span style="font-size: 14px\;"><span style="font-family: arial\;"><span style="color: rgb(0\, 0\, 0)\;">Linger Lodge Gumbo Bowl: Classic original recipe! Loaded with andouille sausage\, shrimp\, chicken\, okra\, peppers\, onions\, tomatoes\, celery\, and savory secret spices</span></span></span></li>\n	<li style="margin-bottom: 0in\;"><span style="color: rgb(0\, 0\, 0)\; font-family: arial\; font-size: 14px\;">Grilled Chicken Club Wrap: Lightly seasoned\, grilled chicken breast wrapped in a spinach herb tortilla with bacon\, lettuce\, tomato\, onions\, shredded cheddar cheese and ranch dressing\, served with a pickle spear and homemade Old Bay seasoned potato chips</span></li>\n	<li style="margin-bottom: 0in\;"><span style="color: rgb(0\, 0\, 0)\; font-family: arial\; font-size: 14px\;">River Reuben: Lean corned beef\, swiss cheese\, sauerkraut\, thousand island dressing\, served with a pickle spear and homemade Old Bay seasoned potato chips</span></li>\n	<li style="margin-bottom: 0in\;"><span style="color: rgb(0\, 0\, 0)\; font-family: arial\; font-size: 14px\;">Braden River Burger: A half pound of specially ground beef blend of brisket and short rib\, lettuce\, tomato and red onion\, s</span><span style="color: rgb(0\, 0\, 0)\; font-family: arial\; font-size: 14px\;">erved with a pickle spear and homemade Old Bay seasoned potato chips</span></li>\n	<li style="margin-bottom: 0in\;"><span style="color: rgb(0\, 0\, 0)\; font-family: arial\; font-size: 14px\;">Garden Veggie Burger: Perfectly seasoned patty made with roasted veggies\, brown rice\, black beans\, and kale with lettuce\, tomato and red onion\, s</span><span style="color: rgb(0\, 0\, 0)\; font-family: arial\; font-size: 14px\;">erved with a pickle spear and homemade Old Bay seasoned potato chips</span></li>\n	<li style="margin-bottom: 0in\;"><span style="color: rgb(0\, 0\, 0)\; font-family: arial\; font-size: 14px\;">Chicken Tender Basket: Served with french fries and a side of coleslaw&nbsp\;</span></li>\n</ul>\n<span style="color: rgb(0\, 0\, 0)\;"><span style="font-size: 14px\;"><span style="font-family: arial\, sans-serif\;"><span style="font-family: arial\;">The cost to attend is $30.</span></span></span></span>
LOCATION:Linger Lodge Restaurant 7205 85th St. Ct. E. Bradenton\, FL 34202
UID:e.2475.53477
SEQUENCE:3
DTSTAMP:20260424T222708Z
URL:https://business.manateechamber.com/events/details/2026-power-connection-lunch-5-20-26-linger-lodge-restaurant-53477
END:VEVENT

END:VCALENDAR
