BEGIN:VCALENDAR
VERSION:2.0
PRODID:-//ChamberMaster//Event Calendar 2.0//EN
METHOD:PUBLISH
X-PUBLISHED-TTL:P3D
REFRESH-INTERVAL:P3D
CALSCALE:GREGORIAN
BEGIN:VEVENT
DTSTART:20260506T153000Z
DTEND:20260506T170000Z
X-MICROSOFT-CDO-ALLDAYEVENT:FALSE
SUMMARY:2026 Power Connection Lunch - 5.6.26 Carrabba's Italian Grill
DESCRIPTION:There is Power in making Connections! This casual\, members-only networking event allows you to connect and grow your Chamber network while enjoying lunch at Carrabba's Italian Grill. Each attendee is invited to give a one-minute commercial to promote their organization\, products\, and services. \n\n	Your RSVP is required and must be received by 1:00 PM on Monday\, May 4. We cannot accommodate walk-ins. \n	Cancellations after 1:00 PM on May 4 will be invoiced as guarantees will have been made on your behalf.\n	Limited to one attendee per organization due to the popularity of this event.\n	If you have any dietary allergies or restrictions\, please let us know by May 4 so that we may accommodate you.\n\nThe cost to attend is $30.
X-ALT-DESC;FMTTYPE=text/html:<span style="font-size:14px\;"><span style="font-family: arial\; color: rgb(0\, 0\, 0)\;"><strong>There is Power in making Connections</strong>! This casual\, members-only networking event allows you to connect and grow your Chamber network while enjoying lunch at <b>Carrabba&#39\;s Italian Grill</b></span></span><span style="font-size:14px\;"><span style="font-family: arial\;"><span style="color: rgb(0\, 0\, 0)\;">. Each attendee is invited to give a one-minute commercial to promote their organization\, products\, and services.&nbsp\;</span></span></span>\n<ul>\n	<li style="margin-bottom: 0in\;"><span style="font-size: 14px\;"><span style="font-family: arial\;"><span style="color: rgb(0\, 0\, 0)\;"><strong>Your RSVP is required</strong>&nbsp\;and must be received by 1:00 PM&nbsp\;on Monday\, May 4.&nbsp\;We cannot accommodate walk-ins.&nbsp\;</span></span></span></li>\n	<li style="margin-bottom: 0in\;"><span style="font-size: 14px\;"><span style="font-family: arial\;"><span style="color: rgb(0\, 0\, 0)\;"><strong>Cancellations&nbsp\;</strong>after 1:00 PM on May 4</span></span></span><span style="color: rgb(0\, 0\, 0)\; font-family: arial\; font-size: 14px\;">&nbsp\;</span><span style="font-size: 14px\;"><span style="font-family: arial\;"><span style="color: rgb(0\, 0\, 0)\;">will be invoiced as guarantees will have been made on your behalf.</span></span></span></li>\n	<li style="margin-bottom: 0in\;"><span style="font-size: 14px\;"><span style="font-family: arial\;"><span style="color: rgb(0\, 0\, 0)\;"><strong>Limited to one attendee</strong>&nbsp\;per organization due to the popularity of this event.</span></span></span></li>\n	<li style="margin-bottom: 0in\;"><span style="font-size: 14px\;"><span style="font-family: arial\;"><span style="color: rgb(0\, 0\, 0)\;">If you have any dietary allergies or restrictions\, please let us know by May 4&nbsp\;so that we may accommodate&nbsp\;you.</span></span></span></li>\n</ul>\n<span style="color: rgb(0\, 0\, 0)\;"><span style="font-size: 14px\;"><span style="font-family: arial\, sans-serif\;"><span style="font-family: arial\;">The cost to attend is $30.</span></span></span></span>
LOCATION:Carrabba's Italian Grill 2106 Cortez West Bradenton\, FL 34205
UID:e.2475.53476
SEQUENCE:3
DTSTAMP:20260424T223514Z
URL:https://business.manateechamber.com/events/details/2026-power-connection-lunch-5-6-26-carrabba-s-italian-grill-53476
END:VEVENT

END:VCALENDAR
