BEGIN:VCALENDAR
VERSION:2.0
PRODID:-//ChamberMaster//Event Calendar 2.0//EN
METHOD:PUBLISH
X-PUBLISHED-TTL:P3D
REFRESH-INTERVAL:P3D
CALSCALE:GREGORIAN
BEGIN:VEVENT
DTSTART:20151016T150000Z
DTEND:20151016T230000Z
X-MICROSOFT-CDO-ALLDAYEVENT:FALSE
SUMMARY:31st Annual Golf Tournament - October 16\, 2015
DESCRIPTION:Join Us For The 31st Annual Chamber Golf Tournament on Friday\, October 16 at Waterlefe Golf & River Club.\n\n \n\n11:00 AM - Registration/Lunch\n\n12:30 PM - Shotgun Start\n\nAwards Dinner & Cash Bar Following Play\n\n \n\nJoin your fellow Chamber members for a great day of golf\, friendly competition\, exciting contests\, fantastic prizes and great food - a day golf enthusiasts will not want to miss! You'll receive the coveted golf shirt along with many other goodies.\n\n \n\nEnjoy a lunch buffet\, goodie bag\, golf shirt\, range balls\, prizes and fun!\n\n \n\nFour Person Scramble - Amateur Players Only\n\n \n\n*At Least One Player Per Team Must Be a Chamber Member*\n\n    (Rain Date: Monday\, November 9)
X-ALT-DESC;FMTTYPE=text/html:<p style="margin: 0in 0in 0pt\;"><span style="font-size: 14px\;"><font color="#000000" face="Calibri">Join Us For The 31st Annual Chamber Golf Tournament on Friday\, October 16 at Waterlefe Golf &amp\; River Club.</font></span></p>\n\n<p style="margin: 0in 0in 0pt\;">&nbsp\;</p>\n\n<p style="margin: 0in 0in 0pt\;"><span style="font-size: 14px\;"><font color="#000000" face="Calibri">11:00 AM - Registration/Lunch</font></span></p>\n\n<p style="margin: 0in 0in 0pt\;"><span style="font-size: 14px\;"><font color="#000000" face="Calibri">12:30 PM - Shotgun Start</font></span></p>\n\n<p style="margin: 0in 0in 0pt\;"><span style="font-size: 14px\;"><font color="#000000" face="Calibri">Awards Dinner &amp\; Cash Bar Following Play</font></span></p>\n\n<p style="margin: 0in 0in 0pt\;"><span style="font-size: 14px\;"><font color="#000000" face="Calibri">&nbsp\;<br>\nJoin your fellow Chamber members for a great day of golf\, friendly competition\, exciting contests\, fantastic prizes and great food - a day golf enthusiasts will not want to miss! You'll receive the coveted golf shirt along with many other goodies.</font></span></p>\n\n<p style="margin: 0in 0in 0pt\;"><span style="font-size: 14px\;"><font color="#000000" face="Calibri">&nbsp\;</font></span></p>\n\n<p style="margin: 0in 0in 0pt\;"><span style="font-size: 14px\;"><font color="#000000" face="Calibri">Enjoy a lunch buffet\, goodie bag\, golf shirt\, range balls\, prizes and fun!</font></span></p>\n\n<p style="margin: 0in 0in 0pt\;"><span style="font-size: 14px\;"><font color="#000000" face="Calibri">&nbsp\;</font></span></p>\n\n<p style="margin: 0in 0in 0pt\;"><span style="font-size: 14px\;"><font color="#000000" face="Calibri">Four Person Scramble - Amateur Players Only</font></span></p>\n\n<p style="margin: 0in 0in 0pt\;">&nbsp\;</p>\n\n<p style="margin: 0in 0in 0pt\;"><font face="Calibri"><font color="#000000"><span style="font-size: 14px\;">*At Least One Player Per Team Must Be a Chamber Member*</span></font></font><br>\n<span style="font-size: 14px\;"><font face="Calibri"><font color="#000000">&nbsp\;&nbsp\;&nbsp\; (Rain Date: Monday\, November 9)</font></font></span></p>\n
LOCATION:Waterlefe Golf & River Club 1022 Fish Hook Cove Bradenton\, FL 34212
UID:e.2475.708
SEQUENCE:3
DTSTAMP:20260419T150411Z
URL:https://business.manateechamber.com/events/details/31st-annual-golf-tournament-october-16-2015-10-16-2015-708
END:VEVENT

END:VCALENDAR
