BEGIN:VCALENDAR
VERSION:2.0
PRODID:-//ChamberMaster//Event Calendar 2.0//EN
METHOD:PUBLISH
X-PUBLISHED-TTL:P3D
REFRESH-INTERVAL:P3D
CALSCALE:GREGORIAN
BEGIN:VEVENT
DTSTART:20181215T160000Z
DTEND:20181215T220000Z
X-MICROSOFT-CDO-ALLDAYEVENT:FALSE
SUMMARY:"A Country Bear Christmas" at Bearadise Ranch
DESCRIPTION:Share some holiday cheer with the Bears of Bearadise Ranch! View bears in a natural habitat. Visit with Santa Claus and special animal guests from TwoTails Ranch. On stage country music band "Ramblin Rose".Train rides\, Pony Rides\, Moon Bounce and Vendors! Food available for purchase (no coolers). Admission at gate $10.00 per person\, Ages 4 and under free. Free parking.
X-ALT-DESC;FMTTYPE=text/html:Share some holiday cheer with the Bears of Bearadise Ranch! View bears in a natural habitat. Visit with Santa Claus and special animal guests from TwoTails Ranch. On stage country music band &quot\;Ramblin Rose&quot\;.Train rides\, Pony Rides\, Moon Bounce and Vendors! Food available for purchase (no coolers). Admission at gate $10.00 per person\, Ages 4 and under free. Free parking.&nbsp\;
LOCATION:Bearadise Ranch Bear Preserve Located off SR 70 and CR 675 6908 245th St.\, E. Myakka City\, Florida\, 34251
UID:e.2475.24195
SEQUENCE:3
DTSTAMP:20260423T151430Z
URL:https://business.manateechamber.com/events/details/a-country-bear-christmas-at-bearadise-ranch-24195
END:VEVENT

END:VCALENDAR
