BEGIN:VCALENDAR
VERSION:2.0
PRODID:-//ChamberMaster//Event Calendar 2.0//EN
METHOD:PUBLISH
X-PUBLISHED-TTL:P3D
REFRESH-INTERVAL:P3D
CALSCALE:GREGORIAN
BEGIN:VEVENT
DTSTART:20260506T200000Z
DTEND:20260506T220000Z
X-MICROSOFT-CDO-ALLDAYEVENT:FALSE
SUMMARY:A. Roese Cremation & Memorial Society Grand Opening
DESCRIPTION:Join US in celebrating our Grand Opening!\n\n\n\nRibbon Cutting at 4:00PM with the Manatee Chamber of Commerce
X-ALT-DESC;FMTTYPE=text/html:<strong>Join US in celebrating our Grand Opening!</strong><br />\n<br />\nRibbon Cutting at 4:00PM with the Manatee Chamber of Commerce
LOCATION:A. Roese Cremation & Memorial Society Office 3400 South Tamiami Trail Suite 300 Sarasota Florida 34239
UID:e.2475.53547
SEQUENCE:3
DTSTAMP:20260421T164832Z
URL:https://business.manateechamber.com/events/details/a-roese-cremation-memorial-society-grand-opening-53547
END:VEVENT

END:VCALENDAR
