BEGIN:VCALENDAR
VERSION:2.0
PRODID:-//ChamberMaster//Event Calendar 2.0//EN
METHOD:PUBLISH
X-PUBLISHED-TTL:P3D
REFRESH-INTERVAL:P3D
CALSCALE:GREGORIAN
BEGIN:VEVENT
DTSTART:20260502T150000Z
DTEND:20260502T180000Z
X-MICROSOFT-CDO-ALLDAYEVENT:FALSE
SUMMARY:African to African American - Legacy of Cooperative Eocnomics
DESCRIPTION:Cooperative Economics\, exploring how communities strengthen themselves by sharing resources\, supporting local businesses\, and building sustainable prosperity together. A featured highlight of the program is a live pottery demonstration where attendees can watch a skilled artist create pottery in real time\, learn about the craft's cultural and historical significance\, and participate in an interactive Q&A.
X-ALT-DESC;FMTTYPE=text/html:Cooperative Economics\, exploring how communities strengthen themselves by sharing resources\, supporting local businesses\, and building sustainable prosperity together. A featured highlight of the program is a live pottery demonstration where attendees can watch a skilled artist create pottery in real time\, learn about the craft&rsquo\;s cultural and historical significance\, and participate in an interactive Q&amp\;A.
LOCATION:Leonard Reid House 2529 N. Orange Ave. Sarasota\, FL
UID:e.2475.53480
SEQUENCE:3
DTSTAMP:20260424T223514Z
URL:https://business.manateechamber.com/events/details/african-to-african-american-legacy-of-cooperative-eocnomics-53480
END:VEVENT

END:VCALENDAR
