BEGIN:VCALENDAR
VERSION:2.0
PRODID:-//ChamberMaster//Event Calendar 2.0//EN
METHOD:PUBLISH
X-PUBLISHED-TTL:P3D
REFRESH-INTERVAL:P3D
CALSCALE:GREGORIAN
BEGIN:VEVENT
DTSTART:20220816T153000Z
DTEND:20220816T173000Z
X-MICROSOFT-CDO-ALLDAYEVENT:FALSE
SUMMARY:AJC'S Summer Lunch & Learn
DESCRIPTION:AJC's Summer Lunch & Learn Guest Speaker: AJC's Holly Huffnagle! "America's Wakeup Call: What Rising Antisemitism Means for the United States". Antisemitism is rising in the United States. Americans must wakeup to the fact that what begins with Jews\, rarely ends with Jews. The current rise of hate\, prejudice\, and conspiratorial thinking should be a warning for all. Sponsored by Williams Parker. COST ONLY $39.00 (Includes Lecture & Luncheon)!! Advance Registration Required. RSVP to AJC at Phone: 941.365.4955 or Email: sarasota@ajc.org or Online at: www.ajc.org/Sarasota/summer2022
X-ALT-DESC;FMTTYPE=text/html:AJC&rsquo\;s Summer Lunch &amp\; Learn Guest Speaker: AJC&rsquo\;s Holly Huffnagle! &ldquo\;America&rsquo\;s Wakeup Call: What Rising Antisemitism Means for the United States&rdquo\;. Antisemitism is rising in the United States. Americans must wakeup to the fact that what begins with Jews\, rarely ends with Jews. The current rise of hate\, prejudice\, and conspiratorial thinking should be a warning for all. Sponsored by Williams Parker. COST ONLY $39.00 (Includes Lecture &amp\; Luncheon)!! Advance Registration Required. RSVP to AJC at Phone: 941.365.4955 or Email: sarasota@ajc.org or Online at: www.ajc.org/Sarasota/summer2022
LOCATION:Michael's On East\, 1212 East Avenue South\, Sarasota\, FL 34239
UID:e.2475.35483
SEQUENCE:3
DTSTAMP:20260419T195411Z
URL:https://business.manateechamber.com/events/details/ajc-s-summer-lunch-learn-08-16-2022-35483
END:VEVENT

END:VCALENDAR
