BEGIN:VCALENDAR
VERSION:2.0
PRODID:-//ChamberMaster//Event Calendar 2.0//EN
METHOD:PUBLISH
X-PUBLISHED-TTL:P3D
REFRESH-INTERVAL:P3D
CALSCALE:GREGORIAN
BEGIN:VEVENT
DTSTART:20160726T140000Z
DTEND:20160726T150000Z
X-MICROSOFT-CDO-ALLDAYEVENT:FALSE
SUMMARY:Anna Maria Island Turtle Watch
DESCRIPTION:Have you ever held a loggerhead turtle shell? Or watched a new born hatching make its first steps to the Gulf? Join us for "Turtle Talks" every Tuesday at 10:00 AM during the months of June & July at the Anne Silver Community Center. We will have fun engaging\, interactive ways to learn about the Bradenton Area's favorite shore inhabitants! Find out how you can be part of an excavation tour at this free\, fun event. Doors open at 9:30 am!
X-ALT-DESC;FMTTYPE=text/html:<span style="color: rgb(75\, 70\, 64)\; font-family: &quot\;Helvetica Neue&quot\;\, Helvetica\, Arial\, sans-serif\; font-size: 14px\; line-height: 17.5px\;">Have you ever held a loggerhead turtle shell? Or watched a new born hatching make its first steps to the Gulf? Join us for &quot\;Turtle Talks&quot\; every Tuesday at 10:00 AM during the months of June &amp\; July at the Anne Silver Community Center. We will have fun engaging\, interactive ways to learn about the Bradenton Area&#39\;s favorite shore inhabitants! Find out how you can be part of an excavation tour at this free\, fun event. Doors open at 9:30 am!</span>
LOCATION:8605 Gulf Drive Holmes Beach CrossPoint Fellowship Church Holmes Beach\, 34217
UID:e.2475.9053
SEQUENCE:3
DTSTAMP:20260420T041031Z
URL:https://business.manateechamber.com/events/details/anna-maria-island-turtle-watch-07-26-2016-9053
END:VEVENT

END:VCALENDAR
