BEGIN:VCALENDAR
VERSION:2.0
PRODID:-//ChamberMaster//Event Calendar 2.0//EN
METHOD:PUBLISH
X-PUBLISHED-TTL:P3D
REFRESH-INTERVAL:P3D
CALSCALE:GREGORIAN
BEGIN:VEVENT
DTSTART:20191128T160000Z
DTEND:20191128T210000Z
X-MICROSOFT-CDO-ALLDAYEVENT:FALSE
SUMMARY:Annual Thanksgiving feast at Viento Kitchen & Bar
DESCRIPTION:Viento Kitchen & Bar at Zota Beach Resort on Longboat Key\, Fla.\, is inviting guests to dine and give thanks during their annual Thanksgiving Day Buffet.Viento Kitchen & Bar's Thanksgiving Day Buffet will include a platter of harvest season favorites\, such as chef carved roasted turkey\, honey baked ham\, roasted maple pecan butternut squash and green bean casserole\, with coastal-inspired options including a chilled seafood bar\, crab legs and oyster shooters. Adults can ring in the celebrations with bottomless mimosas for only $15. The Thanksgiving Day Buffet costs $39.99 for adults and $19.99 for children 4-11 years old. Reservations are recommended and can be made by calling (941) 248-1211.
X-ALT-DESC;FMTTYPE=text/html:Viento Kitchen &amp\; Bar at Zota Beach Resort on Longboat Key\, Fla.\, is inviting guests to dine and give thanks during their annual Thanksgiving Day Buffet.Viento Kitchen &amp\; Bar&rsquo\;s Thanksgiving Day Buffet will include a platter of harvest season favorites\, such as chef carved roasted turkey\, honey baked ham\, roasted maple pecan butternut squash and green bean casserole\, with coastal-inspired options including a chilled seafood bar\, crab legs and oyster shooters. Adults can ring in the celebrations with bottomless mimosas for only $15. The Thanksgiving Day Buffet costs $39.99 for adults and $19.99 for children 4-11 years old. Reservations are recommended and can be made by calling (941) 248-1211.
LOCATION:Viento Kitchen & Bar at Zota Beach Resort
UID:e.2475.27378
SEQUENCE:3
DTSTAMP:20260420T091524Z
URL:https://business.manateechamber.com/events/details/annual-thanksgiving-feast-at-viento-kitchen-bar-27378
END:VEVENT

END:VCALENDAR
