BEGIN:VCALENDAR
VERSION:2.0
PRODID:-//ChamberMaster//Event Calendar 2.0//EN
METHOD:PUBLISH
X-PUBLISHED-TTL:P3D
REFRESH-INTERVAL:P3D
CALSCALE:GREGORIAN
BEGIN:VEVENT
DTSTART:20151205T230000Z
DTEND:20151206T040000Z
X-MICROSOFT-CDO-ALLDAYEVENT:FALSE
SUMMARY:Arthritis Foundation Jingle Bell 5k
DESCRIPTION:Bradenton Jingle Bell Run/Walk Saturday\, 12/5/15 Lakewood Ranch- Main Street 8100 Lakewood Ranch Blvd. Bradenton\, FL 34202 www.jbr.org/bradenton. 4:00pm- registration/check-in begins 6:00pm- Race Start.\n\nBe there with bells on! Get in the spirit this holiday season at the Arthritis Foundation?s Jingle Bell Run/Walk for Arthritis . The Jingle Bell Run/Walk  is a fun and festive way to kick off your holidays by helping others! This fun\, festive and family-friendly 5k features food & drinks (including beer w/ proper ID)\, entertainment\, many kid's activities\, a holiday-themed costume contest\, silent auction\, and much more! All participants will receive an official long-sleeve Jingle Bell T-Shirt and jingle bells. There is also a 1-mile route for runners or walkers.
X-ALT-DESC;FMTTYPE=text/html:Bradenton Jingle Bell Run/Walk Saturday\, 12/5/15 Lakewood Ranch- Main Street 8100 Lakewood Ranch Blvd. Bradenton\, FL 34202 <a href="http://www.jbr.org/bradenton">www.jbr.org/bradenton</a>. 4:00pm- registration/check-in begins 6:00pm- Race Start.<br />\nBe there with bells on! Get in the spirit this holiday season at the Arthritis Foundation?s Jingle Bell Run/Walk for Arthritis&reg\;. The Jingle Bell Run/Walk&reg\; is a fun and festive way to kick off your holidays by helping others! This fun\, festive and family-friendly 5k features food &amp\; drinks (including beer w/ proper ID)\, entertainment\, many kid&#39\;s activities\, a holiday-themed costume contest\, silent auction\, and much more! All participants will receive an official long-sleeve Jingle Bell T-Shirt and jingle bells. There is also a 1-mile route for runners or walkers.
LOCATION:Lakewood Ranch- Main St
UID:e.2475.3037
SEQUENCE:3
DTSTAMP:20260419T162337Z
URL:https://business.manateechamber.com/events/details/arthritis-foundation-jingle-bell-5k-12-05-2015-3037
END:VEVENT

END:VCALENDAR
