BEGIN:VCALENDAR
VERSION:2.0
PRODID:-//ChamberMaster//Event Calendar 2.0//EN
METHOD:PUBLISH
X-PUBLISHED-TTL:P3D
REFRESH-INTERVAL:P3D
CALSCALE:GREGORIAN
BEGIN:VEVENT
DTSTART:20160218T124500Z
DTEND:20160218T141500Z
X-MICROSOFT-CDO-ALLDAYEVENT:FALSE
SUMMARY:Bagels & Benefits Member Reception - February 18\, 2016
DESCRIPTION:Get the most out of your Chamber Membership!\n\nThis reception is designed to offer an orientation regarding the numerous benefits available to you as one of our valued members. RSVP is required.\n\n\n\nSeating is limited to the first 50 RSVP's.
X-ALT-DESC;FMTTYPE=text/html:<b>Get the most out of your Chamber Membership!</b>\n\n<p>This reception is designed to offer an orientation regarding the numerous benefits available to you as one of our valued members. <b>RSVP is required.<br />\n<br />\nSeating is limited to the first 50 RSVP&#39\;s.&nbsp\; </b></p>\n
LOCATION:Manatee Chamber of Commerce 222 10th Street West Bradenton\, FL 34205
UID:e.2475.4068
SEQUENCE:3
DTSTAMP:20260419T195718Z
URL:https://business.manateechamber.com/events/details/bagels-benefits-member-reception-february-18-2016-02-18-2016-4068
END:VEVENT

END:VCALENDAR
