BEGIN:VCALENDAR
VERSION:2.0
PRODID:-//ChamberMaster//Event Calendar 2.0//EN
METHOD:PUBLISH
X-PUBLISHED-TTL:P3D
REFRESH-INTERVAL:P3D
CALSCALE:GREGORIAN
BEGIN:VEVENT
DTSTART:20160121T124500Z
DTEND:20160121T141500Z
X-MICROSOFT-CDO-ALLDAYEVENT:FALSE
SUMMARY:Bagels & Benefits Member Reception - January 21\, 2016
DESCRIPTION:Get the most out of your Chamber Membership!\n\nThis reception is designed to offer an orientation regarding the numerous benefits available to you as one of our valued members. Space is limited and RSVP is required.
X-ALT-DESC;FMTTYPE=text/html:<strong>Get the most out of your Chamber Membership!</strong>\n\n<p>This reception is designed to offer an orientation regarding the numerous benefits available to you as one of our valued members. Space is limited and <u><span style="font-size:16px\;"><b>RSVP is required. </b></span></u></p>\n
LOCATION:Manatee Chamber of Commerce Lakewood Ranch Office at the McClure Center: 4215 Concept Court Lakewood Ranch\, FL 34211
UID:e.2475.3063
SEQUENCE:3
DTSTAMP:20260419T180824Z
URL:https://business.manateechamber.com/events/details/bagels-benefits-member-reception-january-21-2016-01-21-2016-3063
END:VEVENT

END:VCALENDAR
