BEGIN:VCALENDAR
VERSION:2.0
PRODID:-//ChamberMaster//Event Calendar 2.0//EN
METHOD:PUBLISH
X-PUBLISHED-TTL:P3D
REFRESH-INTERVAL:P3D
CALSCALE:GREGORIAN
BEGIN:VEVENT
DTSTART:20151022T193000Z
DTEND:20151022T210000Z
X-MICROSOFT-CDO-ALLDAYEVENT:FALSE
SUMMARY:Bagels & Benefits Member Reception - October 22\, 2015
DESCRIPTION:Registration for this event is closed.\n\n\n\nTHIS EVENT IS SOLD OUT!\n\n\n\nGet the most out of your Chamber Membership!\n\nThis reception is designed to offer an orientation regarding the numerous benefits available to you as one of our valued members. RSVP is required.
X-ALT-DESC;FMTTYPE=text/html:<b>Registration for this event is closed.</b><br />\n<br />\n<strong><u>THIS EVENT IS SOLD OUT!</u></strong><br />\n<br />\n<b>Get the most out of your Chamber Membership!</b>\n\n<p>This reception is designed to offer an orientation regarding the numerous benefits available to you as one of our valued members. <b>RSVP is required. </b></p>\n
LOCATION:Manatee Chamber of Commerce 222 10th Street West Bradenton\, FL 34205
UID:e.2475.2521
SEQUENCE:3
DTSTAMP:20260419T132412Z
URL:https://business.manateechamber.com/events/details/bagels-benefits-member-reception-october-22-2015-10-22-2015-2521
END:VEVENT

END:VCALENDAR
