BEGIN:VCALENDAR
VERSION:2.0
PRODID:-//ChamberMaster//Event Calendar 2.0//EN
METHOD:PUBLISH
X-PUBLISHED-TTL:P3D
REFRESH-INTERVAL:P3D
CALSCALE:GREGORIAN
BEGIN:VEVENT
DTSTART:20220722T140000Z
DTEND:20220722T200000Z
X-MICROSOFT-CDO-ALLDAYEVENT:FALSE
SUMMARY:Beach Market at Coquina Beach
DESCRIPTION:Come and stroll the Beach Market at Coquina Beach from 10-4!\n\nApril through July ? Every Wednesday and Friday (excluding 4th of July weekend)\n\nAugust\, September\, October ? No Market\n\nNovember ? Sunday Only\n\nDecember through March ? Every Sunday and Wednesday\n\nYou will find local artists\, arts and crafts\, jewelry\, fresh produce\, baked goods\, gourmet foods\, apparel\, pottery\, purses\, collectibles\, woodworking\, health and beauty items\, unique gifts\, and more!\n\nCome and watch local artisans creating and find that perfect souvenir of your trip to Florida. You will find many unique items at the Beach Market. The talented AMI String band performs from 11:30:00 -2:30. Enjoy the beautiful white sand beach and relax with eats and drinks overlooking the Gulf at Coquina Café. Come join the FUN!!!\n\nThe Beach Market is at 2650 Gulf Drive S.\, Bradenton Beach at the trolley stop\, concession stand area. Ride the FREE trolley to the market or park in the FREE parking lot. Manatee County does not allow dogs anywhere in Coquina Park. The market is stroller\, walker\, and wheelchair accessible. More information at 941-518-4431.
X-ALT-DESC;FMTTYPE=text/html:<p style="box-sizing: border-box\; overflow-wrap: break-word\; margin-top: 0px\; margin-bottom: 1rem\; line-height: 2\; color: rgb(105\, 115\, 145)\; font-family: &quot\;Open Sans&quot\;\; font-size: 14.4px\; text-indent: 0.25px\;">Come and stroll the Beach Market at Coquina Beach from 10-4!</p>\n\n<p style="box-sizing: border-box\; overflow-wrap: break-word\; margin-top: 0px\; margin-bottom: 1rem\; line-height: 2\; color: rgb(105\, 115\, 145)\; font-family: &quot\;Open Sans&quot\;\; font-size: 14.4px\; text-indent: 0.25px\;">April through July ? Every Wednesday and Friday (excluding 4th of July weekend)<br style="box-sizing: border-box\;">\nAugust\, September\, October ? No Market<br style="box-sizing: border-box\;">\nNovember ? Sunday Only<br style="box-sizing: border-box\;">\nDecember through March ? Every Sunday and Wednesday</p>\n\n<p style="box-sizing: border-box\; overflow-wrap: break-word\; margin-top: 0px\; margin-bottom: 1rem\; line-height: 2\; color: rgb(105\, 115\, 145)\; font-family: &quot\;Open Sans&quot\;\; font-size: 14.4px\; text-indent: 0.25px\;">You will find local artists\, arts and crafts\, jewelry\, fresh produce\, baked goods\, gourmet foods\, apparel\, pottery\, purses\, collectibles\, woodworking\, health and beauty items\, unique gifts\, and more!</p>\n\n<p style="box-sizing: border-box\; overflow-wrap: break-word\; margin-top: 0px\; margin-bottom: 1rem\; line-height: 2\; color: rgb(105\, 115\, 145)\; font-family: &quot\;Open Sans&quot\;\; font-size: 14.4px\; text-indent: 0.25px\;">Come and watch local artisans creating and find that perfect souvenir of your trip to Florida. You will find many unique items at the Beach Market. The talented AMI String band performs from 11:30:00 -2:30. Enjoy the beautiful white sand beach and relax with eats and drinks overlooking the Gulf at Coquina Café. Come join the FUN!!!</p>\n\n<p style="box-sizing: border-box\; overflow-wrap: break-word\; margin-top: 0px\; margin-bottom: 1rem\; line-height: 2\; color: rgb(105\, 115\, 145)\; font-family: &quot\;Open Sans&quot\;\; font-size: 14.4px\; text-indent: 0.25px\;">The Beach Market is at 2650 Gulf Drive S.\, Bradenton Beach at the trolley stop\, concession stand area. Ride the FREE trolley to the market or park in the FREE parking lot. Manatee County does not allow dogs anywhere in Coquina Park. The market is stroller\, walker\, and wheelchair accessible. More information at 941-518-4431.</p>\n
LOCATION:Anna Maria Island: 2650 Gulf Drive South\, Bradenton Beach
UID:e.2475.37694
SEQUENCE:3
DTSTAMP:20260422T162122Z
URL:https://business.manateechamber.com/events/details/beach-market-at-coquina-beach-07-22-2022-37694
END:VEVENT

END:VCALENDAR
