BEGIN:VCALENDAR
VERSION:2.0
PRODID:-//ChamberMaster//Event Calendar 2.0//EN
METHOD:PUBLISH
X-PUBLISHED-TTL:P3D
REFRESH-INTERVAL:P3D
CALSCALE:GREGORIAN
BEGIN:VEVENT
DTSTART:20220827T120000Z
DTEND:20220827T140000Z
X-MICROSOFT-CDO-ALLDAYEVENT:FALSE
SUMMARY:BEAT THE HEAT CAMP GLADIATOR
DESCRIPTION:Prove your fitness level during four athletic challenges and a 1-mile run in Camp Gladiator's Beat the Heat Challenge.
X-ALT-DESC;FMTTYPE=text/html:<span style="color: rgb(20\, 24\, 39)\; font-family: &quot\;Helvetica Neue&quot\;\, Helvetica\, -apple-system\, BlinkMacSystemFont\, Roboto\, Arial\, sans-serif\; font-size: 14px\;">Prove your fitness level during four athletic challenges and a 1-mile run in Camp Gladiator&rsquo\;s Beat the Heat Challenge.</span>
LOCATION:5851 Nathan Benderson Circle Sarasota\, FL 34235
UID:e.2475.40283
SEQUENCE:3
DTSTAMP:20260419T193656Z
URL:https://business.manateechamber.com/events/details/beat-the-heat-camp-gladiator-40283
END:VEVENT

END:VCALENDAR
