BEGIN:VCALENDAR
VERSION:2.0
PRODID:-//ChamberMaster//Event Calendar 2.0//EN
METHOD:PUBLISH
X-PUBLISHED-TTL:P3D
REFRESH-INTERVAL:P3D
CALSCALE:GREGORIAN
BEGIN:VEVENT
DTSTART:20220814T150000Z
DTEND:20220814T160000Z
X-MICROSOFT-CDO-ALLDAYEVENT:FALSE
SUMMARY:Beer Yoga with Zen & Flow
DESCRIPTION:Wind down your week with some relaxing yoga & a cold beer!\n\nYoga will be held every 2nd & 4th Sunday of the month out in our new beer garden! Class is $15\, which includes a beer and begins at 11 am. Please provide your own mat(There will be a couple extras just in case) & water bottle.
X-ALT-DESC;FMTTYPE=text/html:<p><span style="font-weight: 700\; color: rgb(57\, 54\, 79)\; font-family: &quot\;Neue Plak&quot\;\, -apple-system\, BlinkMacSystemFont\, Roboto\, &quot\;Helvetica Neue&quot\;\, Helvetica\, Tahoma\, Arial\, sans-serif\; font-size: 14px\; letter-spacing: 0.5px\;">Wind down your week with some relaxing yoga &amp\; a cold beer!</span></p>\n\n<p><span style="color: rgb(111\, 114\, 135)\; font-family: &quot\;Neue Plak&quot\;\, -apple-system\, BlinkMacSystemFont\, Roboto\, &quot\;Helvetica Neue&quot\;\, Helvetica\, Tahoma\, Arial\, sans-serif\; font-size: 16px\; letter-spacing: 0.5px\;">Yoga will be held every 2nd &amp\; 4th Sunday of the month out in our new beer garden! Class is $15\, which includes a beer and begins at 11 am. Please provide your own mat(There will be a couple extras just in case) &amp\; water bottle.</span></p>\n
LOCATION:Location Corporate Ladder Brewing Company 4935 96th Street East Palmetto\, FL 34221
UID:e.2475.40187
SEQUENCE:3
DTSTAMP:20260419T195342Z
URL:https://business.manateechamber.com/events/details/beer-yoga-with-zen-flow-40187
END:VEVENT

END:VCALENDAR
