BEGIN:VCALENDAR
VERSION:2.0
PRODID:-//ChamberMaster//Event Calendar 2.0//EN
METHOD:PUBLISH
X-PUBLISHED-TTL:P3D
REFRESH-INTERVAL:P3D
CALSCALE:GREGORIAN
BEGIN:VEVENT
DTSTART:20260220T134500Z
DTEND:20260220T170000Z
X-MICROSOFT-CDO-ALLDAYEVENT:FALSE
SUMMARY:Big Bank Theory - Bradenton Christian School | February 20\, 2026
DESCRIPTION:The Chamber's Big Bank Theory program is designed to help build the financial literacy skills of high school students in Manatee County. Students are engaged in a hands-on\, real-life financial simulation that introduces them to the realities of being a financially responsible adult.  It's sort of like playing the "Game of Life" during which the students have to balance a monthly budget by making smart decisions about their finances and expenses. (See the photos below.)\n\n\n\nAs a volunteer\, you will help students as they visit various stations representing typical expenses young adults need to navigate - like housing\, transportation\, food\, clothing\, and more. Students will make spending decisions while working to stay within their monthly budget.\n\n\n\nWe need you! Please click the "Register" button near the top right and help teach local students financial literacy.
X-ALT-DESC;FMTTYPE=text/html:<span style="color: rgb(51\, 51\, 51)\; font-family: sans-serif\, Arial\, Verdana\, &quot\;Trebuchet MS&quot\;\; font-size: 13px\; background-color: rgb(255\, 255\, 255)\; line-height: 20.8px\;">The Chamber&#39\;s Big Bank Theory program is designed to help build the financial literacy skills of high school students in Manatee County.&nbsp\;</span><span style="color: rgb(51\, 51\, 51)\; font-family: sans-serif\, Arial\, Verdana\, &quot\;Trebuchet MS&quot\;\; font-size: 13px\; background-color: rgb(255\, 255\, 255)\;">Students are engaged in a hands-on\, real-life financial simulation that introduces them to the realities of being a financially responsible adult.&nbsp\; It&#39\;s sort of like playing the &quot\;Game of Life&quot\; during which the students have to balance a monthly budget by making smart decisions about their finances and expenses. (See the photos below.)<br />\n<br />\nAs a volunteer\, you will help students as they visit various stations representing typical expenses young adults need to navigate - like housing\, transportation\, food\, clothing\, and more. Students will make spending decisions while working to stay within their monthly budget.</span><br />\n<br />\n<span style="box-sizing: border-box\; margin: 0px\; padding: 0px\; border: 0px\; outline: 0px\; text-size-adjust: 100%\; vertical-align: baseline\; background-image: initial\; background-position: initial\; background-size: initial\; background-repeat: initial\; background-attachment: initial\; background-origin: initial\; background-clip: initial\;">We need you! Please click the &quot\;Register&quot\; button near the top right and help teach local students financial literacy.</span>
LOCATION:Bradenton Christian School 3304 43rd St. W. Bradenton\, FL 34209
UID:e.2475.52994
SEQUENCE:3
DTSTAMP:20260421T155408Z
URL:https://business.manateechamber.com/events/details/big-bank-theory-bradenton-christian-school-february-20-2026-52994
END:VEVENT

END:VCALENDAR
