BEGIN:VCALENDAR
VERSION:2.0
PRODID:-//ChamberMaster//Event Calendar 2.0//EN
METHOD:PUBLISH
X-PUBLISHED-TTL:P3D
REFRESH-INTERVAL:P3D
CALSCALE:GREGORIAN
BEGIN:VEVENT
DTSTART:20220812T160000Z
DTEND:20220812T200000Z
X-MICROSOFT-CDO-ALLDAYEVENT:FALSE
SUMMARY:Blood Drive at Len's Roofing
DESCRIPTION:Come visit Len's Roofing for an eventful afternoon\; meet the staff at Len's\, enjoy delicious food from Grandma Wans food truck\, cornhole\, and of course RSVP if you'd like to donate blood to Suncoast blood bank!
X-ALT-DESC;FMTTYPE=text/html:Come visit Len&#39\;s Roofing for an eventful afternoon\; meet the staff at Len&#39\;s\, enjoy delicious food from Grandma Wans food truck\, cornhole\, and of course RSVP if you&#39\;d like to donate blood to Suncoast blood bank!
LOCATION:311 8th Street E Bradenton\, FL 34208
UID:e.2475.40168
SEQUENCE:3
DTSTAMP:20260419T193712Z
URL:https://business.manateechamber.com/events/details/blood-drive-at-len-s-roofing-40168
END:VEVENT

END:VCALENDAR
