BEGIN:VCALENDAR
VERSION:2.0
PRODID:-//ChamberMaster//Event Calendar 2.0//EN
METHOD:PUBLISH
X-PUBLISHED-TTL:P3D
REFRESH-INTERVAL:P3D
CALSCALE:GREGORIAN
BEGIN:VEVENT
DTSTART:20220811T210000Z
DTEND:20220811T230000Z
X-MICROSOFT-CDO-ALLDAYEVENT:FALSE
SUMMARY:Bradenton Acupuncture & Wellness Ribbon Cutting
DESCRIPTION:We invite you to come see our office\, meet all our acupuncture physicians: Dr. Rachel Siditsky\, Dr. David Miller\, and Dr. Edna Zuluaga\, and have some light bites and drinks. We will be offering a grand opening special of $350 for a package of 5 acupuncture treatments\, and there will be raffle prizes!
X-ALT-DESC;FMTTYPE=text/html:We invite you to come see our office\, meet all our acupuncture physicians: Dr. Rachel Siditsky\, Dr. David Miller\, and Dr. Edna Zuluaga\, and have some light bites and drinks. We will be offering a grand opening special of $350 for a package of 5 acupuncture treatments\, and there will be raffle prizes!
LOCATION:5460 63rd St. E\, Suite B\, Bradenton\, FL 34203
UID:e.2475.40185
SEQUENCE:3
DTSTAMP:20260419T201442Z
URL:https://business.manateechamber.com/events/details/bradenton-acupuncture-wellness-ribbon-cutting-40185
END:VEVENT

END:VCALENDAR
