BEGIN:VCALENDAR
VERSION:2.0
PRODID:-//ChamberMaster//Event Calendar 2.0//EN
METHOD:PUBLISH
X-PUBLISHED-TTL:P3D
REFRESH-INTERVAL:P3D
CALSCALE:GREGORIAN
BEGIN:VEVENT
DTSTART:20181117T140000Z
DTEND:20181117T190000Z
X-MICROSOFT-CDO-ALLDAYEVENT:FALSE
SUMMARY:Bradenton Farmer's Market
DESCRIPTION:Bradenton Downtown Farmer's Market
X-ALT-DESC;FMTTYPE=text/html:Bradenton Downtown Farmer&#39\;s Market&nbsp\;&nbsp\;&nbsp\;&nbsp\;&nbsp\;&nbsp\;&nbsp\;&nbsp\;
LOCATION:Old Main Street in downtown Bradenton
UID:e.2475.23814
SEQUENCE:3
DTSTAMP:20260423T150813Z
URL:https://business.manateechamber.com/events/details/bradenton-farmer-s-market-11-17-2018-23814
END:VEVENT

END:VCALENDAR
