BEGIN:VCALENDAR
VERSION:2.0
PRODID:-//ChamberMaster//Event Calendar 2.0//EN
METHOD:PUBLISH
X-PUBLISHED-TTL:P3D
REFRESH-INTERVAL:P3D
CALSCALE:GREGORIAN
BEGIN:VEVENT
DTSTART:20260322T160000Z
DTEND:20260322T160000Z
X-MICROSOFT-CDO-ALLDAYEVENT:FALSE
SUMMARY:Brunch on the Bay
DESCRIPTION:Brunch on the Bay is a celebration of community\, philanthropy and the extraordinary achievements of USF Sarasota-Manatee campus students. By supporting academic scholarships and campus initiatives\, guests experience culinary delights from the area's finest restaurants\, enjoy the stunning ambiance of the campus grounds and connect with friends and university partners who are making a difference in our local community.\n\n\n\nSince 1994\, Brunch on the Bay has provided $1.2 million in scholarships to some 2\,500 students. Thank you to our generous donors\, sponsors\, and restaurants for making Brunch on the Bay a continued success and supporting student success for over 30 years!
X-ALT-DESC;FMTTYPE=text/html:<span style="color:#000000"><span style="font-family:open sans\,arial\,sans-serif\; font-size:16px">Brunch on the Bay is a celebration of community\, philanthropy and the extraordinary achievements of USF Sarasota-Manatee campus students. By supporting academic scholarships and campus initiatives\, guests experience culinary delights from the area&rsquo\;s finest restaurants\, enjoy the stunning ambiance of the campus grounds and connect with friends and university partners who are making a difference in our local community.</span><br />\n<br />\n<span style="font-family:open sans\,arial\,sans-serif\; font-size:16px">Since 1994\, Brunch on the Bay has provided $1.2 million in scholarships to some 2\,500 students. Thank you to our generous donors\, sponsors\, and restaurants for making Brunch on the Bay a continued success and supporting student success for over 30 years!</span></span>
LOCATION:University of South Florida Sarasota-Manatee Campus 8350 N. Tamiami Trail Sarasota\, FL 34243
UID:e.2475.53473
SEQUENCE:3
DTSTAMP:20260421T120215Z
URL:https://business.manateechamber.com/events/details/brunch-on-the-bay-03-22-2026-53473
END:VEVENT

END:VCALENDAR
