BEGIN:VCALENDAR
VERSION:2.0
PRODID:-//ChamberMaster//Event Calendar 2.0//EN
METHOD:PUBLISH
X-PUBLISHED-TTL:P3D
REFRESH-INTERVAL:P3D
CALSCALE:GREGORIAN
BEGIN:VEVENT
DTSTART:20260310T203000Z
DTEND:20260310T223000Z
X-MICROSOFT-CDO-ALLDAYEVENT:FALSE
SUMMARY:Business After Hours - March 10\, 2026 - Bob Boast Volkswagen
DESCRIPTION:Join us at Bob Boast Volkswagen and network with fellow Chamber members and enjoy complimentary lite bites and beverages\, as well as all the fun you've come to expect from Chamber events. \n\n\n\n**This event will be both indoor and outdoor\, so please dress accordingly** \n\n\n\nRSVP is requested to accurately plan for food and beverage. \n\n\n\nAdmission is included with your Manatee Chamber membership\n\nNon-member fee is $50\n\nDon't forget your business cards!
X-ALT-DESC;FMTTYPE=text/html:<div style=""><span style="font-size: 14px\;"><span style="font-family: tahoma\;"><span style="font-size: 16px\;"><span style="font-family: arial\;"><span style="color: rgb(0\, 0\, 0)\;">Join us at Bob Boast Volkswagen and network with fellow Chamber members and enjoy complimentary lite bites and beverages\, as well as all the fun you&#39\;ve come to expect from Chamber events.&nbsp\;</span></span></span></span></span><br />\n<br />\n<span style="color: rgb(0\, 0\, 0)\; font-family: arial\; font-size: 16px\;">**This event will be both indoor and outdoor\,&nbsp\;so please dress accordingly**&nbsp\;</span><br />\n<br />\n<em><span style="color: rgb(0\, 0\, 255)\;"><strong><span style="font-family: arial\; font-size: 16px\;">RSVP is requested to accurately plan for food and beverage</span></strong><span style="font-family: arial\; font-size: 16px\;"><strong>.</strong></span></span></em><span style="color: rgb(0\, 0\, 0)\; font-family: arial\; font-size: 16px\;">&nbsp\;</span><br />\n<br />\n<span style="color:#000000\;"><span style="font-size:14px\;"><span style="font-family:tahoma\;"><span style="font-size:16px\;"><span style="font-family:arial\;">Admission is included with your Manatee Chamber membership<br />\nNon-member fee is $50<br />\nDon&#39\;t forget your business cards!</span></span></span></span></span></div>\n
LOCATION:Bob Boast Volkswagen 4827 14th St. W. Bradenton\, FL 34207
UID:e.2475.53117
SEQUENCE:3
DTSTAMP:20260424T190401Z
URL:https://business.manateechamber.com/events/details/business-after-hours-march-10-2026-bob-boast-volkswagen-53117
END:VEVENT

END:VCALENDAR
