BEGIN:VCALENDAR
VERSION:2.0
PRODID:-//ChamberMaster//Event Calendar 2.0//EN
METHOD:PUBLISH
X-PUBLISHED-TTL:P3D
REFRESH-INTERVAL:P3D
CALSCALE:GREGORIAN
BEGIN:VEVENT
DTSTART:20151013T210000Z
DTEND:20151013T230000Z
X-MICROSOFT-CDO-ALLDAYEVENT:FALSE
SUMMARY:Business After Hours - October 13\, 2015
DESCRIPTION:Network with fellow Chamber members and enjoy great food and drinks as well as all the fun you've come to expect from Chamber events. Remember\, it's FREE for Chamber members - and don't forget your business cards.\n\n \n\nNO RSVP Required. Free for Chamber members and $10 for future members.
X-ALT-DESC;FMTTYPE=text/html:<div>Network with fellow Chamber members and enjoy great food and drinks as well as all the fun you&#39\;ve come to expect from Chamber events. Remember\, it&#39\;s FREE for Chamber members - and don&#39\;t forget your business cards.</div>\n\n<div>&nbsp\;</div>\n\n<div><b style="font-family: Tahoma\, sans-serif\; font-size: small\; background-color: rgb(255\, 255\, 255)\;">NO RSVP Required. Free for Chamber members and $10 for future members.</b></div>\n
LOCATION:Turning Points 701 17th Ave. W. Bradenton\, FL 34205
UID:e.2475.603
SEQUENCE:3
DTSTAMP:20260419T145134Z
URL:https://business.manateechamber.com/events/details/business-after-hours-october-13-2015-10-13-2015-603
END:VEVENT

END:VCALENDAR
