BEGIN:VCALENDAR
VERSION:2.0
PRODID:-//ChamberMaster//Event Calendar 2.0//EN
METHOD:PUBLISH
X-PUBLISHED-TTL:P3D
REFRESH-INTERVAL:P3D
CALSCALE:GREGORIAN
BEGIN:VEVENT
DTSTART:20220820T230000Z
DTEND:20220821T020000Z
X-MICROSOFT-CDO-ALLDAYEVENT:FALSE
SUMMARY:Cabana Dogs return to 3 Keys Brewery
DESCRIPTION:Cabana Dogs return to 3 Keys Brewery\nCome out to one of the best music and burger places in all of Bradenton! Beer brews and winners all around! See us play from 7-10pm. It's gonna be a party!
X-ALT-DESC;FMTTYPE=text/html:<span style="font-size: 16px\; line-height: 26px\; font-weight: 600\; font-family: &quot\;Open Sans&quot\;\, &quot\;Helvetica Neue&quot\;\, Helvetica\, Arial\, sans-serif\; color: rgb(46\, 54\, 63)\; margin-bottom: 5px\; display: inline-block\;">Cabana Dogs return to 3 Keys Brewery</span>\n<div class="event-description-html" id="event_description" property="schema:description" style="color: rgb(86\, 92\, 104)\; font-family: Helvetica\, Arial\, sans-serif\; font-size: 14px\;">Come out to one of the best music and burger places in all of Bradenton! Beer brews and winners all around! See us play from 7-10pm. It&rsquo\;s gonna be a party!</div>\n
LOCATION:2505 Manatee Ave. E Bradenton\, FL 34208
UID:e.2475.40315
SEQUENCE:3
DTSTAMP:20260419T195711Z
URL:https://business.manateechamber.com/events/details/cabana-dogs-return-to-3-keys-brewery-40315
END:VEVENT

END:VCALENDAR
