BEGIN:VCALENDAR
VERSION:2.0
PRODID:-//ChamberMaster//Event Calendar 2.0//EN
METHOD:PUBLISH
X-PUBLISHED-TTL:P3D
REFRESH-INTERVAL:P3D
CALSCALE:GREGORIAN
BEGIN:VEVENT
DTSTART:20191109T160000Z
DTEND:20191109T180000Z
X-MICROSOFT-CDO-ALLDAYEVENT:FALSE
SUMMARY:Center Montessori School Art Festival
DESCRIPTION:Join us for Center Montessori School's annual Art Festival on November 9th from 11am -1pm. Fun arts and crafts activities for preschool and elementary age children\, with lunch and snow cones available for purchase.
X-ALT-DESC;FMTTYPE=text/html:Join us for Center Montessori School&#39\;s annual Art Festival on November 9th from 11am -1pm. Fun arts and crafts activities for preschool and elementary age children\, with lunch and snow cones available for purchase.
LOCATION:Center Montessori School 6024 26th Street West Bradenton\, Florida 34207
UID:e.2475.27384
SEQUENCE:3
DTSTAMP:20260420T092003Z
URL:https://business.manateechamber.com/events/details/center-montessori-school-art-festival-11-09-2019-27384
END:VEVENT

END:VCALENDAR
