BEGIN:VCALENDAR
VERSION:2.0
PRODID:-//ChamberMaster//Event Calendar 2.0//EN
METHOD:PUBLISH
X-PUBLISHED-TTL:P3D
REFRESH-INTERVAL:P3D
CALSCALE:GREGORIAN
BEGIN:VEVENT
DTSTART:20260520T190000Z
DTEND:20260520T203000Z
X-MICROSOFT-CDO-ALLDAYEVENT:FALSE
SUMMARY:Chamber 101 Member Orientation - May 20\, 2026
DESCRIPTION:Make the most of your Chamber membership! Whether you're a new member or a long-standing member looking for a refresher\, this is the perfect opportunity to explore all the great benefits available to you. Hear directly from Chamber leaders about how to grow your connections\, boost your business visibility\, access key resources\, stay informed on important issues\, and more. \n\n \n\nWe'll start with self-introductions so that you can meet fellow members - every Chamber gathering is a networking opportunity!\n\n \n\nSeating is limited\, and your RSVP is required. Bring your business cards and your company brochures to display in our two Chamber office lobbies.
X-ALT-DESC;FMTTYPE=text/html:<strong style="font-family: arial\; font-size: 14px\;">Make the most of your Chamber membership!&nbsp\;</strong><span style="font-family: arial\; font-size: 14px\;">Whether you&#39\;re a new member or a long-standing member looking for a refresher\, this is the perfect opportunity to explore all the great benefits available to you. Hear directly from Chamber leaders about how to grow your connections\, boost your business visibility\, access key resources\, stay informed on important issues\, and more.&nbsp\;</span><br style="font-family: arial\; font-size: 14px\;" />\n<span style="font-family: arial\; font-size: 14px\;">&nbsp\;</span><br style="font-family: arial\; font-size: 14px\;" />\n<span style="font-family: arial\; font-size: 14px\;">We&#39\;ll start with self-introductions so that you can meet fellow members - every Chamber gathering is a networking opportunity!</span><br style="font-family: arial\; font-size: 14px\;" />\n<span style="font-family: arial\; font-size: 14px\;">&nbsp\;</span><br style="font-family: arial\; font-size: 14px\;" />\n<span style="font-family: arial\; font-size: 14px\;">Seating is limited\, and your RSVP is required.&nbsp\;Bring your business cards and your company brochures to display in our two Chamber office lobbies.</span>\n<p>&nbsp\;</p>\n
LOCATION:Manatee Chamber's Lakewood Ranch Office 4215 Concept Ct. Lakewood Ranch\, FL 34211
UID:e.2475.53012
SEQUENCE:3
DTSTAMP:20260424T152728Z
URL:https://business.manateechamber.com/events/details/chamber-101-member-orientation-may-20-2026-53012
END:VEVENT

END:VCALENDAR
