BEGIN:VCALENDAR
VERSION:2.0
PRODID:-//ChamberMaster//Event Calendar 2.0//EN
METHOD:PUBLISH
X-PUBLISHED-TTL:P3D
REFRESH-INTERVAL:P3D
CALSCALE:GREGORIAN
BEGIN:VEVENT
DTSTART:20160115T164500Z
DTEND:20160115T180000Z
X-MICROSOFT-CDO-ALLDAYEVENT:FALSE
SUMMARY:Chamber Friends Committee Meeting - January 15\, 2016
DESCRIPTION:
X-ALT-DESC;FMTTYPE=text/html:
LOCATION:
UID:e.2475.4284
SEQUENCE:3
DTSTAMP:20260419T181052Z
URL:https://business.manateechamber.com/events/details/chamber-friends-committee-meeting-january-15-2016-01-15-2016-4284
END:VEVENT

END:VCALENDAR
