BEGIN:VCALENDAR
VERSION:2.0
PRODID:-//ChamberMaster//Event Calendar 2.0//EN
METHOD:PUBLISH
X-PUBLISHED-TTL:P3D
REFRESH-INTERVAL:P3D
CALSCALE:GREGORIAN
BEGIN:VEVENT
DTSTART:20260315T153000Z
DTEND:20260315T193000Z
X-MICROSOFT-CDO-ALLDAYEVENT:FALSE
SUMMARY:Cheers\, Chukkers & Charity at the Sarasota Polo Club
DESCRIPTION:Join us on Sunday\, March 15th from 11:30am 3:30pm for an afternoon of polo\, food\, and fun in support of three incredible local nonprofits:\n\n Cat Depot\n\nHeroes Welcome Home\n\nHope Family Services\n\n \n\nSpend the day field-side enjoying exciting polo action while \n\n sampling delicious food\, \n\n bidding on raffle baskets  \n\nlively 50/50 drawing. \n\n \n\nCome dressed in your most festive St. Patrick's Day attire and enter our costume contest for a chance to win fun prizes.harity-ticke\n\n https://www.eventbrite.com/e/cheers-chukkers-cts-1981807744312\n\nTickets: $35 Early Bird. Food included! \n\nPlease share & join us:\n\n \n\n#SarasotaCommunity #March15Event #SupportLocalSarasota #LocalCharityEvent \n\n#CommunityForGood #SupportLocalCharities #DoGoodFeelGood #StPatricksDayFun
X-ALT-DESC;FMTTYPE=text/html:<span style="color:black">Join us on Sunday\, March 15th from 11:30am&ndash\;3:30pm for an afternoon of polo\, food\, and fun in support of three incredible local nonprofits:</span><br />\n&nbsp\;<span style="color:black">Cat Depot</span><br />\n<span style="color:black">Heroes Welcome Home</span><br />\n<span style="color:black">Hope Family Services</span><br />\n&nbsp\;<br />\n<span style="color:black">Spend the day field-side enjoying exciting polo action while&nbsp\;</span><br />\n<span style="color:black">&nbsp\;sampling delicious food\,&nbsp\;</span><br />\n<span style="color:black">&nbsp\;bidding on raffle baskets &nbsp\;</span><br />\n<span style="color:black">lively&nbsp\;</span><span style="color:black">50/50 drawing.&nbsp\;</span><br />\n&nbsp\;<br />\n<span style="color:black">Come dressed in your most festive St. Patrick&rsquo\;s Day attire </span><span style="color:black">and enter our costume contest for a chance to win fun prizes.</span><span style="color:black"><a href="https://www.eventbrite.com/e/cheers-chukkers-charity-tickets-1981807744312">harity-ticke</a></span><br />\n&nbsp\;<span style="color:black"><a href="https://www.eventbrite.com/e/cheers-chukkers-charity-tickets-1981807744312">https://www.eventbrite.com/e/cheers-chukkers-c</a></span><span style="color:black"><a href="https://www.eventbrite.com/e/cheers-chukkers-charity-tickets-1981807744312">ts-1981807744312</a></span><br />\n<span style="color:black">Tickets: $35 Early Bird. Food included!&nbsp\;</span><br />\n<span style="color:black">Please share &amp\; join us:</span><br />\n&nbsp\;<br />\n<span style="color:black">#SarasotaCommunity #March15Event #SupportLocalSarasota #LocalCharityEvent&nbsp\;</span><br />\n<span style="color:black"><span style="font-family:aptos\,sans-serif"><span style="font-size:12.0pt">#CommunityForGood #SupportLocalCharities #DoGoodFeelGood #StPatricksDayFun</span></span></span>
LOCATION:Sarasota Polo Club
UID:e.2475.53452
SEQUENCE:3
DTSTAMP:20260419T132918Z
URL:https://business.manateechamber.com/events/details/cheers-chukkers-charity-at-the-sarasota-polo-club-53452
END:VEVENT

END:VCALENDAR
