BEGIN:VCALENDAR
VERSION:2.0
PRODID:-//ChamberMaster//Event Calendar 2.0//EN
METHOD:PUBLISH
X-PUBLISHED-TTL:P3D
REFRESH-INTERVAL:P3D
CALSCALE:GREGORIAN
BEGIN:VEVENT
DTSTART:20181225T160000Z
DTEND:20181225T210000Z
X-MICROSOFT-CDO-ALLDAYEVENT:FALSE
SUMMARY:Christmas Brunch at Zota Beach Resort
DESCRIPTION:Viento Kitchen + Bar\, the signature restaurant of Zota Beach Resort\, welcomes locals and guests to a Christmas Day Brunch. Created by Chef Jeremy White\, the special holiday buffet features a chef carving of leg of lamb and honey baked ham\, grilled tuscan chicken\, smoked salmon display\, chef attended omelet station and an array of seasonal desserts. Viento's Christmas Brunch is priced at $49.95 for adults and $24.95 for children ages 4-11 years old. A full bar will be available and bottomless mimosas can be added for $10 per person. Complimentary valet parking will be available\, and reservations are required by calling 941.248.1207.
X-ALT-DESC;FMTTYPE=text/html:Viento Kitchen + Bar\, the signature restaurant of Zota Beach Resort\, welcomes locals and guests to a Christmas Day Brunch. Created by Chef Jeremy White\, the special holiday buffet features a chef carving of leg of lamb and honey baked ham\, grilled tuscan chicken\, smoked salmon display\, chef attended omelet station and an array of seasonal desserts. Viento&rsquo\;s Christmas Brunch is priced at $49.95 for adults and $24.95 for children ages 4-11 years old. A full bar will be available and bottomless mimosas can be added for $10 per person. Complimentary valet parking will be available\, and reservations are required by calling 941.248.1207.
LOCATION:Viento Kitchen + Bar\, the signature restaurant of Zota Beach Resort
UID:e.2475.24233
SEQUENCE:3
DTSTAMP:20260423T151553Z
URL:https://business.manateechamber.com/events/details/christmas-brunch-at-zota-beach-resort-24233
END:VEVENT

END:VCALENDAR
