BEGIN:VCALENDAR
VERSION:2.0
PRODID:-//ChamberMaster//Event Calendar 2.0//EN
METHOD:PUBLISH
X-PUBLISHED-TTL:P3D
REFRESH-INTERVAL:P3D
CALSCALE:GREGORIAN
BEGIN:VEVENT
DTSTART:20220601T230000Z
DTEND:20220602T010000Z
X-MICROSOFT-CDO-ALLDAYEVENT:FALSE
SUMMARY:Circus Minius
DESCRIPTION:Circus Minius presents "Illuminations"\n\n\n\nFor one night only\, Circus Minius is performing their Cirque du Soleil-inspired show featuring traditional circus acts such as lyra\, rola bola\, Spanish web\, contortion\, and aerial silks.\n\n\n\nGeneral Public Welcome\n\n\n\nTickets help support this performing youth circus located in the Bradenton/Sarasota area.
X-ALT-DESC;FMTTYPE=text/html:<strong><span style="font-family:calibri\,sans-serif">Circus Minius presents &ldquo\;Illuminations&rdquo\;</span></strong><br />\n<br />\n<span style="font-family:calibri\,sans-serif">For one night only\, <strong>Circus Minius</strong> is performing their Cirque du Soleil-inspired show featuring traditional circus acts such as lyra\, rola bola\, Spanish web\, contortion\, and aerial silks.</span><br />\n<br />\n<span style="font-family:calibri\,sans-serif">General Public Welcome</span><br />\n<br />\n<span style="font-family:calibri\,sans-serif">Tickets help support this performing youth circus located in the Bradenton/Sarasota area.</span>
LOCATION:Manatee Performing Arts Center 502 Third Avenue West Bradenton\, FL 34205 The performance will be in Stone Hall at the performing arts center. Additional FREE Parking 402 7th Street West Bradenton\, FL 34205
UID:e.2475.35453
SEQUENCE:3
DTSTAMP:20260422T135851Z
URL:https://business.manateechamber.com/events/details/circus-minius-35453
END:VEVENT

END:VCALENDAR
