BEGIN:VCALENDAR
VERSION:2.0
PRODID:-//ChamberMaster//Event Calendar 2.0//EN
METHOD:PUBLISH
X-PUBLISHED-TTL:P3D
REFRESH-INTERVAL:P3D
CALSCALE:GREGORIAN
BEGIN:VEVENT
DTSTART:20160115T124500Z
DTEND:20160115T140000Z
X-MICROSOFT-CDO-ALLDAYEVENT:FALSE
SUMMARY:Coffee Club - January 15\, 2016
DESCRIPTION:Please join us for breakfast and enjoy great networking\, updates on Chamber programs & events and fantastic door prizes. Meet friends\, new and old\, over coffee and breakfast.\n\n \n\nThis event is FREE for Chamber members\, and no RSVP necessary. Be sure to bring plenty of business cards!\n\n \n\n\nNO RSVP Required. Free for Chamber members and $10 for future members.
X-ALT-DESC;FMTTYPE=text/html:<span style="font-size: 10pt\;"><font face="Arial">Please join us for breakfast and enjoy great networking\, updates on Chamber programs &amp\; events and fantastic door prizes. Meet friends\, new and old\, over coffee and breakfast.</font></span>\n\n<div>&nbsp\;</div>\n\n<div><span style="font-size: 10pt\;"><font face="Arial">This event is <b><font color="#0000cd">FREE </font></b>for Chamber members\, and no RSVP necessary. Be sure to bring plenty of business cards!</font></span>\n\n<div>&nbsp\;</div>\n</div>\n\n<div><b style="font-family: Tahoma\, sans-serif\; font-size: small\; background-color: rgb(255\, 255\, 255)\;">NO RSVP Required. Free for Chamber members and $10 for future members.</b></div>\n
LOCATION:Manatee County Fairgrounds 1402 14th Ave. W. Palmetto\, FL 34221 Enter Gate 8 Across from Fire Dept. on 14th Ave. Golf Cart Shuttles Available
UID:e.2475.4023
SEQUENCE:3
DTSTAMP:20260419T180816Z
URL:https://business.manateechamber.com/events/details/coffee-club-january-15-2016-01-15-2016-4023
END:VEVENT

END:VCALENDAR
