BEGIN:VCALENDAR
VERSION:2.0
PRODID:-//ChamberMaster//Event Calendar 2.0//EN
METHOD:PUBLISH
X-PUBLISHED-TTL:P3D
REFRESH-INTERVAL:P3D
CALSCALE:GREGORIAN
BEGIN:VEVENT
DTSTART:20260326T120000Z
DTEND:20260326T133000Z
X-MICROSOFT-CDO-ALLDAYEVENT:FALSE
SUMMARY:Coffee Club - March 26\, 2026 - MIDFLORIDA Credit Union - Bradenton Manatee Branch
DESCRIPTION:Join us at MIDFLORIDA Credit Union - Bradenton Manatee Branch for our March Coffee Club! \n\n\n\nWe'll have coffee and lite breakfast bites along with the stellar networking and fun door prizes you expect when attending a Chamber event! \n\n\n\nAdmission is included in your Manatee Chamber membership and $50 for non-members.
X-ALT-DESC;FMTTYPE=text/html:<span style="color:#000000\;"><span style="font-size:14px\;"><span style="font-family:arial\;"><strong>Join us at MIDFLORIDA Credit Union - Bradenton Manatee Branch for our March Coffee Club!&nbsp\;</strong><br />\n<br />\nWe&#39\;ll have coffee and lite breakfast bites along with the stellar networking and fun door prizes you expect when attending a Chamber event!&nbsp\;<br />\n<br />\nAdmission is included in your Manatee Chamber membership and $50 for non-members.&nbsp\;</span></span></span><br />\n&nbsp\;
LOCATION:MIDFLORIDA Credit Union - Bradenton Manatee Branch 5905 Manatee Ave. W. Bradenton\, FL 34209
UID:e.2475.53118
SEQUENCE:3
DTSTAMP:20260424T190321Z
URL:https://business.manateechamber.com/events/details/coffee-club-march-26-2026-midflorida-credit-union-bradenton-manatee-branch-53118
END:VEVENT

END:VCALENDAR
