BEGIN:VCALENDAR
VERSION:2.0
PRODID:-//ChamberMaster//Event Calendar 2.0//EN
METHOD:PUBLISH
X-PUBLISHED-TTL:P3D
REFRESH-INTERVAL:P3D
CALSCALE:GREGORIAN
BEGIN:VEVENT
DTSTART:20220526T120000Z
DTEND:20220526T133000Z
X-MICROSOFT-CDO-ALLDAYEVENT:FALSE
SUMMARY:Coffee Club - May 26\, 2022 - Conley Buick GMC Subaru
DESCRIPTION:Join us at Conley Buick GMC Subaru for May Coffee Club! \n\n\n\nEnjoy great networking and fantastic door prizes. Meet friends\, new and old\, over coffee and lite breakfast bites.\n\n \nRSVP is requested for this event. \n\n\n\nAdmission is free for Manatee Chamber members\n\nFuture member fee is $25. \n\nDon't forget your business cards!
X-ALT-DESC;FMTTYPE=text/html:<span style="font-size:16px\;"><span style="font-family:arial\;"><span style="background: white\; color: black\;">Join us at Conley Buick GMC Subaru for May Coffee Club!&nbsp\;<br />\n<br />\nEnjoy great networking&nbsp\;and fantastic door prizes.&nbsp\;Meet&nbsp\;friends\, new and old\, over coffee and lite breakfast bites.<br />\n&nbsp\;</span></span></span>\n<div><span style="font-size:16px\;"><span style="background: transparent\; box-sizing: border-box\; margin: 0px\; padding: 0px\; border: 0px\; outline: 0px\; text-size-adjust: 100%\; vertical-align: baseline\; font-weight: bolder\; font-family: arial\;"><span style="box-sizing: border-box\; margin: 0px\; padding: 0px\; border: 0px\; outline: 0px\; text-size-adjust: 100%\; vertical-align: baseline\; background: transparent\; color: rgb(0\, 0\, 205)\;"><em style="box-sizing: border-box\; margin: 0px\; padding: 0px\; border: 0px\; outline: 0px\; text-size-adjust: 100%\; vertical-align: baseline\; background: transparent\;">RSVP is requested for this event.&nbsp\;</em></span></span><br />\n<br />\n<span style="color: rgb(0\, 0\, 0)\;"><span style="font-family: arial\;">Admission is free for Manatee Chamber members<br />\nFuture member fee is $25.&nbsp\;<br />\nDon&#39\;t forget your business cards!</span></span></span></div>\n
LOCATION:Conley Buick GMC Subaru 800 Cortez Rd. W. Bradenton\, FL 34207
UID:e.2475.33542
SEQUENCE:3
DTSTAMP:20260422T143706Z
URL:https://business.manateechamber.com/events/details/coffee-club-may-26-2022-conley-buick-gmc-subaru-33542
END:VEVENT

END:VCALENDAR
