BEGIN:VCALENDAR
VERSION:2.0
PRODID:-//ChamberMaster//Event Calendar 2.0//EN
METHOD:PUBLISH
X-PUBLISHED-TTL:P3D
REFRESH-INTERVAL:P3D
CALSCALE:GREGORIAN
BEGIN:VEVENT
DTSTART:20260507T120000Z
DTEND:20260507T133000Z
X-MICROSOFT-CDO-ALLDAYEVENT:FALSE
SUMMARY:Coffee & Connections
DESCRIPTION:Celebrating Small Business Week. Come fuel your business\, build your network and meet the Experts.
X-ALT-DESC;FMTTYPE=text/html:Celebrating Small Business Week. Come fuel your business\, build your network and meet the Experts.
LOCATION:Hancock Whitney Bank 9000 SR 70 E Bradenton\, fL 34202
UID:e.2475.53545
SEQUENCE:3
DTSTAMP:20260421T113707Z
URL:https://business.manateechamber.com/events/details/coffee-connections-53545
END:VEVENT

END:VCALENDAR
