BEGIN:VCALENDAR
VERSION:2.0
PRODID:-//ChamberMaster//Event Calendar 2.0//EN
METHOD:PUBLISH
X-PUBLISHED-TTL:P3D
REFRESH-INTERVAL:P3D
CALSCALE:GREGORIAN
BEGIN:VEVENT
DTSTART:20220521T130000Z
DTEND:20220521T200000Z
X-MICROSOFT-CDO-ALLDAYEVENT:FALSE
SUMMARY:COMPUTER BASICS at SCF
DESCRIPTION:COMPUTER BASICS at SCF\n\nInstruction provided in layman's terms for computer novices. Learn computer basics and the many features of Windows 10. Content includes: tools and options available for computer personalization\, how to create and manage files and folders\, and the use of multiple applications within Windows (such as Edge - Microsoft's new internet browser). In addition\, learn customization techniques and how to enhance system performance.\n\nSaturday May 21\, 2022\n\n9am - 4pm\n\nFee: $129 per class\n\n\n\nRegister Here.
X-ALT-DESC;FMTTYPE=text/html:<p>COMPUTER BASICS at SCF</p>\n\n<p>Instruction provided in layman&#39\;s terms for computer novices. Learn computer basics and the many features of Windows 10. Content includes: tools and options available for computer personalization\, how to create and manage files and folders\, and the use of multiple applications within Windows (such as Edge - Microsoft&#39\;s new internet browser). In addition\, learn customization techniques and how to enhance system performance.</p>\n\n<p>Saturday May 21\, 2022</p>\n\n<p>9am - 4pm</p>\n\n<p>Fee: $129 per class<br />\n<br />\n<a href="https://scf.augusoft.net/index.cfm?method=ClassInfo.ClassInformation&amp\;int_class_id=14537&amp\;int_category_id=18&amp\;int_sub_category_id=168&amp\;int_catalog_id=0">Register Here.</a></p>\n
LOCATION:SCF Lakewood Ranch (CIT) 7131 Professional Parkway East\, Sarasota\, FL 34240\, USA I-75 to Exit 213 (University Pkwy). Head east on University Pkwy. Turn right (south) onto Lakewood Ranch Blvd. Turn left (east) at the 4-way stop onto Professional Pkwy E. SCF Lakewood Ranch is 1 mile down on the left. The CIT building is the Center for Innovation & Technology.
UID:e.2475.35399
SEQUENCE:3
DTSTAMP:20260422T135954Z
URL:https://business.manateechamber.com/events/details/computer-basics-at-scf-05-21-2022-35399
END:VEVENT

END:VCALENDAR
