BEGIN:VCALENDAR
VERSION:2.0
PRODID:-//ChamberMaster//Event Calendar 2.0//EN
METHOD:PUBLISH
X-PUBLISHED-TTL:P3D
REFRESH-INTERVAL:P3D
CALSCALE:GREGORIAN
BEGIN:VEVENT
DTSTART:20231116T140000Z
DTEND:20231116T210000Z
X-MICROSOFT-CDO-ALLDAYEVENT:FALSE
SUMMARY:COMPUTER BASICS - HANDS ON CLASSES at SCF - VENICE
DESCRIPTION:COMPUTER BASICS - HANDS ON CLASSES at SCF - VENICE\n\nInstruction provided in layman's terms for computer novices. Learn computer basics and the many features of Windows 10. Content includes: tools and options available for computer personalization\, how to create and manage files and folders\, and the use of multiple applications within Windows (such as Edge - Microsoft's new internet browser). In addition\, learn customization techniques and how to enhance system performance.
X-ALT-DESC;FMTTYPE=text/html:COMPUTER BASICS - HANDS ON CLASSES at SCF - VENICE<br />\nInstruction provided in layman&#39\;s terms for computer novices. Learn computer basics and the many features of Windows 10. Content includes: tools and options available for computer personalization\, how to create and manage files and folders\, and the use of multiple applications within Windows (such as Edge - Microsoft&#39\;s new internet browser). In addition\, learn customization techniques and how to enhance system performance.
LOCATION:SCF Venice (Building 300) 8000 S Tamiami Trl Building 300 - Library & Learning Resource Center Venice\, FL 34293
UID:e.2475.44398
SEQUENCE:3
DTSTAMP:20260422T122218Z
URL:https://business.manateechamber.com/events/details/computer-basics-hands-on-classes-at-scf-venice-11-16-2023-44398
END:VEVENT

END:VCALENDAR
