BEGIN:VCALENDAR
VERSION:2.0
PRODID:-//ChamberMaster//Event Calendar 2.0//EN
METHOD:PUBLISH
X-PUBLISHED-TTL:P3D
REFRESH-INTERVAL:P3D
CALSCALE:GREGORIAN
BEGIN:VEVENT
DTSTART:20220826T230000Z
DTEND:20220827T000000Z
X-MICROSOFT-CDO-ALLDAYEVENT:FALSE
SUMMARY:cottonmouth SOUL event: Doug Deming
DESCRIPTION:Bradenton Florida's newest venue serving southern soul cuisine and live music on our beautiful patio in the Village of the Arts #VOTA Dave Shiplett and crew are here to serve you and give you an afternoon or evening you will long remember with seating inside and outside and art from local artists on display Cottonmouth is the place to hang and feed your soul.
X-ALT-DESC;FMTTYPE=text/html:<span style="font-size:18px\;"><span style="font-family:tahoma\;"><span style="color:#000000\;">Bradenton Florida&rsquo\;s newest venue serving southern soul cuisine and live music on our beautiful patio in the Village of the Arts #VOTA Dave Shiplett and crew are here to serve you and give you an afternoon or evening you will long remember with seating inside and outside and art from local artists on display Cottonmouth is the place to hang and feed your soul.</span></span></span>
LOCATION:We are located in the Village of the Arts 1114 12th St W. Bradenton\, FL 34205
UID:e.2475.40313
SEQUENCE:3
DTSTAMP:20260419T201443Z
URL:https://business.manateechamber.com/events/details/cottonmouth-soul-event-doug-deming-40313
END:VEVENT

END:VCALENDAR
