BEGIN:VCALENDAR
VERSION:2.0
PRODID:-//ChamberMaster//Event Calendar 2.0//EN
METHOD:PUBLISH
X-PUBLISHED-TTL:P3D
REFRESH-INTERVAL:P3D
CALSCALE:GREGORIAN
BEGIN:VEVENT
DTSTART:20220616T130000Z
DTEND:20220616T210000Z
X-MICROSOFT-CDO-ALLDAYEVENT:FALSE
SUMMARY:Disney's The Jungle Book KIDS Camp
DESCRIPTION:Disney's The Jungle Book KIDS Camp\n\nAdapted from Disney's beloved animated film and the works of Rudyard Kipling\, the "man cub" Mowgli\, bounds through the jungle and learns what it means to be human. The jungle is jumpin' with a jazzy beat in Disney's The Jungle Book KIDS. Specially adapted from the classic Disney animated film\, Disney's The Jungle Book KIDS features a host of colorful characters and your favorite songs from the movie.\n\n\n\nBanished by the ferocious tiger\, Shere Khan\, a human boy named Mowgli and his panther friend\, Bagheera\, are on the run in the deepest parts of the jungle. On their journey\, the two meet a sinister snake named Kaa\, a herd of elephants and a giant bear named Baloo\, who teaches them the swingin' musical rhythms of the jungle. After surviving a dangerous encounter with a band of monkeys led by King Louie\, Mowgli and Bagheera are forced to run for their lives. When Shere Khan returns\, our heroes must rally their fellow animals into battle and restore peace throughout the jungle.\n\n\n\nYouth Education consists of training in singing\, dancing\, acting and technical design for ages 7-17. Program includes learning how to audition\, rehearsals\, and a minimum of two full-staged performances. Directed by our professional teaching artists and musical directors. One of the primary goals is to build a community of young performers and provide a safe environment for children to develop teamwork skills and confidence in front of a live audience. One show of each camp is provided complimentary for area youth-at-risk as part of the For Kids By Kids program.\n\n\n\nClick www.manateeperformingartscenter.com/education/ to learn more about our program.
X-ALT-DESC;FMTTYPE=text/html:<strong><span style="font-family:calibri\,sans-serif">Disney&rsquo\;s The Jungle Book KIDS Camp</span></strong><br />\n<span style="font-family:calibri\,sans-serif">Adapted from Disney&#39\;s beloved animated film and the works of Rudyard Kipling\, the &ldquo\;man cub&rdquo\; Mowgli\, bounds through the jungle and learns what it means to be human. The jungle is jumpin&#39\; with a jazzy beat in Disney&#39\;s The Jungle Book KIDS. Specially adapted from the classic Disney animated film\, Disney&#39\;s The Jungle Book KIDS features a host of colorful characters and your favorite songs from the movie.</span><br />\n<br />\n<span style="font-family:calibri\,sans-serif">Banished by the ferocious tiger\, Shere Khan\, a human boy named Mowgli and his panther friend\, Bagheera\, are on the run in the deepest parts of the jungle. On their journey\, the two meet a sinister snake named Kaa\, a herd of elephants and a giant bear named Baloo\, who teaches them the swingin&#39\; musical rhythms of the jungle. After surviving a dangerous encounter with a band of monkeys led by King Louie\, Mowgli and Bagheera are forced to run for their lives. When Shere Khan returns\, our heroes must rally their fellow animals into battle and restore peace throughout the jungle.</span><br />\n<br />\n<span style="font-family:calibri\,sans-serif">Youth Education consists of training in singing\, dancing\, acting and technical design for ages 7-17. Program includes learning how to audition\, rehearsals\, and a minimum of two full-staged performances. Directed by our professional teaching artists and musical directors. One of the primary goals is to build a community of young performers and provide a safe environment for children to develop teamwork skills and confidence in front of a live audience. One show of each camp is provided complimentary for area youth-at-risk as part of the For Kids By Kids program.</span><br />\n<br />\n<span style="font-family:calibri\,sans-serif">Click <a href="http://www.manateeperformingartscenter.com/education/">www.manateeperformingartscenter.com/education/</a> to learn more about our program.</span>
LOCATION:Manatee Performing Arts Center 502 Third Avenue West Bradenton\, FL 34205
UID:e.2475.35478
SEQUENCE:3
DTSTAMP:20260422T141411Z
URL:https://business.manateechamber.com/events/details/disney-s-the-jungle-book-kids-camp-06-16-2022-35478
END:VEVENT

END:VCALENDAR
