BEGIN:VCALENDAR
VERSION:2.0
PRODID:-//ChamberMaster//Event Calendar 2.0//EN
METHOD:PUBLISH
X-PUBLISHED-TTL:P3D
REFRESH-INTERVAL:P3D
CALSCALE:GREGORIAN
BEGIN:VEVENT
DTSTART:20160129T130000Z
DTEND:20160129T140000Z
X-MICROSOFT-CDO-ALLDAYEVENT:FALSE
SUMMARY:Downtown Redevelopment Committee Meeting 1-29-2016
DESCRIPTION:
X-ALT-DESC;FMTTYPE=text/html:
LOCATION:
UID:e.2475.6681
SEQUENCE:3
DTSTAMP:20260419T180746Z
URL:https://business.manateechamber.com/events/details/downtown-redevelopment-committee-meeting-1-29-2016-01-29-2016-6681
END:VEVENT

END:VCALENDAR
