BEGIN:VCALENDAR
VERSION:2.0
PRODID:-//ChamberMaster//Event Calendar 2.0//EN
METHOD:PUBLISH
X-PUBLISHED-TTL:P3D
REFRESH-INTERVAL:P3D
CALSCALE:GREGORIAN
BEGIN:VEVENT
DTSTART:20160325T120000Z
DTEND:20160325T130000Z
X-MICROSOFT-CDO-ALLDAYEVENT:FALSE
SUMMARY:Downtown Redevelopment Committee Meeting 3-25-2016
DESCRIPTION:
X-ALT-DESC;FMTTYPE=text/html:
LOCATION:
UID:e.2475.6683
SEQUENCE:3
DTSTAMP:20260419T211609Z
URL:https://business.manateechamber.com/events/details/downtown-redevelopment-committee-meeting-3-25-2016-03-25-2016-6683
END:VEVENT

END:VCALENDAR
