BEGIN:VCALENDAR
VERSION:2.0
PRODID:-//ChamberMaster//Event Calendar 2.0//EN
METHOD:PUBLISH
X-PUBLISHED-TTL:P3D
REFRESH-INTERVAL:P3D
CALSCALE:GREGORIAN
BEGIN:VEVENT
DTSTART:20151015T160000Z
DTEND:20151015T170000Z
X-MICROSOFT-CDO-ALLDAYEVENT:FALSE
SUMMARY:Education & Workforce Partnership Committee Meeting-October 2015
DESCRIPTION:Monthly Education & Workforce Partnership Committee Meeting
X-ALT-DESC;FMTTYPE=text/html:Monthly Education &amp\; Workforce Partnership Committee Meeting
LOCATION:
UID:e.2475.3023
SEQUENCE:3
DTSTAMP:20260419T150411Z
URL:https://business.manateechamber.com/events/details/education-workforce-partnership-committee-meeting-october-2015-10-15-2015-3023
END:VEVENT

END:VCALENDAR
