BEGIN:VCALENDAR
VERSION:2.0
PRODID:-//ChamberMaster//Event Calendar 2.0//EN
METHOD:PUBLISH
X-PUBLISHED-TTL:P3D
REFRESH-INTERVAL:P3D
CALSCALE:GREGORIAN
BEGIN:VEVENT
DTSTART;VALUE=DATE:20191114
DTEND;VALUE=DATE:20191118
TRANSP:TRANSPARENT
X-MICROSOFT-CDO-ALLDAYEVENT:TRUE
SUMMARY:Ellenton Carnival
DESCRIPTION:Enjoy midway fun for the whole family with rides for all ages from whimsical kiddie rides to state-of-the-art thrill rides\, carnival games and favorite fair food. Carnival parking and admission are free. Unlimited ride wristbands (for riders 36 inches and taller) are $30 on site or online in advance for $20 each\, 2 for $35 or a Family 4 Pack (2 adult/2 child wristbands) for $60. (Pre-sale ends at 5 pm Nov. 14.) Visit the website for ride ticket prices and coupon savings on rides and food. Carnival hours are 5-10 pm Thursday\, 5-11 pm Friday\, noon-11 pm Saturday and noon-10 pm Sunday. For more information\, call 866-666-3247.
X-ALT-DESC;FMTTYPE=text/html:Enjoy midway fun for the whole family with rides for all ages from whimsical kiddie rides to state-of-the-art thrill rides\, carnival games and favorite fair food. Carnival parking and admission are free. Unlimited ride wristbands (for riders 36 inches and taller) are $30 on site or online in advance for $20 each\, 2 for $35 or a Family 4 Pack (2 adult/2 child wristbands) for $60. (Pre-sale ends at 5 pm Nov. 14.) Visit the website for ride ticket prices and coupon savings on rides and food. Carnival hours are 5-10 pm Thursday\, 5-11 pm Friday\, noon-11 pm Saturday and noon-10 pm Sunday. For more information\, call 866-666-3247.
LOCATION:Ellenton Premium Outlets\, 5461 Factory Shops Blvd.\, Ellenton\, FL 34222
UID:e.2475.27376
SEQUENCE:3
DTSTAMP:20260420T091032Z
URL:https://business.manateechamber.com/events/details/ellenton-carnival-27376
END:VEVENT

END:VCALENDAR
